BEGIN:VCALENDAR
VERSION:2.0
PRODID:-//ChamberMaster//Event Calendar 2.0//EN
METHOD:PUBLISH
X-PUBLISHED-TTL:P3D
REFRESH-INTERVAL:P3D
CALSCALE:GREGORIAN
BEGIN:VEVENT
DTSTART:20140907T170000Z
DTEND:20140907T200000Z
X-MICROSOFT-CDO-ALLDAYEVENT:FALSE
SUMMARY:End of Summer and Faculty Show
DESCRIPTION:Hunakai Studio's end of summer and faculty show. Where you can tour the studio\, see artist demos\, meet the instructors and register for fall. This will also be the last chance for membership sign ups.
X-ALT-DESC;FMTTYPE=text/html:Hunakai Studio&#39\;s end of summer and faculty show. Where you can tour the studio\, see artist demos\, meet the instructors and register for fall. This will also be the last chance for membership sign ups.
LOCATION:263 Central Street Foxboro\, MA 02035
UID:e.1730.1053
SEQUENCE:3
DTSTAMP:20260420T150410Z
URL:https://www.tri-townchamber.org/events/details/end-of-summer-and-faculty-show-09-07-2014-1053
END:VEVENT

END:VCALENDAR
