BEGIN:VCALENDAR
VERSION:2.0
PRODID:-//ChamberMaster//Event Calendar 2.0//EN
METHOD:PUBLISH
X-PUBLISHED-TTL:P3D
REFRESH-INTERVAL:P3D
CALSCALE:GREGORIAN
BEGIN:VEVENT
DTSTART:20131113T124500Z
DTEND:20131113T140000Z
X-MICROSOFT-CDO-ALLDAYEVENT:FALSE
SUMMARY:Employment Law Update
DESCRIPTION:This is our Annual Employment Fall Update provided by Tim Kenneally of Foley & Foley PC.\n\n\n\nThe topics discussed will include:\n\n	\n		Wage & Hour laws   recent case decisions involving vacation pay and bonuses\;\n	\n		Misclassification of employees as Independent Contracts   recent developments\;\n	\n		Discrimination   including "associational discrimination"\;\n	\n		Retaliation claims - recent case decisions\;\n	\n		Liability insurance issues for employers\;\n	\n		Legislative update\; and\n	\n		the Latest news in Data Security\n\nAre you\, like many of us\, dissatisfied with your physical appearance?  Do you perceive yourself too skinny\, too short\, too tall or perhaps a bit too heavy?  Well take heart comrades.  Soon those qualities that trouble us may be our ticket to a new job\, or they may be the reason we keep a current position in the face of a layoff.  Why has my size suddenly become my shield against "injustice" you ask?  It's our old\, and ever expanding\, friend Employment Law\, and of course the inevitable fear his trends instill in the hearts and minds of business owners making hiring and firing decisions.\n\nThe latest discrimination trend coming to a jurisdiction near you involves the implementation of laws prohibiting discrimination on the basis of height and weight.  Michigan already has one. The District of Columbia has a law banning discrimination on the basis of personal appearance.  And not to be left out\, Massachusetts appears poised to join their ranks.  Representative Byron Rushing (9th Suffolk) has proposed an amendment to our existing discrimination laws that will make any discrimination on the basis of height and weight unlawful. (House Bill No. 1758) The bill is moving rapidly through our Congress\, and it looks to be on the books in 2014. \n\nTo learn more on this topic and other trending issues in employment law\, please join me on November 13\, 2013 at the Tri-Town Chamber of Commerce in Mansfield for another edition of Employment Law Update. This session will run from 7:45 AM - 9:00 AM. \n\n\n\nAbout Foley & Foley\, PC.\n\nThey represent businesses\, large and small\, in employment matters\, labor relations and all aspects of litigation. Their mission is solving problems and anticipating issues so you can concentrate on your business.\n\nThey are seasoned lawyers who offer a unique blend of experience. They are not a jack of all trades but the master of one: the workplace. Their core focus is Employment and Labor Law in the Public and Private Sectors. Foley & Foley has a robust Litigation practice to counsel and advocate on behalf of your business.
X-ALT-DESC;FMTTYPE=text/html:This is our Annual Employment Fall Update provided by&nbsp\;Tim&nbsp\;Kenneally of Foley &amp\; Foley PC.<br />\n<br />\nThe topics discussed will include:\n<ul>\n	<li>\n		Wage &amp\; Hour laws &ndash\; recent case decisions involving vacation pay and bonuses\;</li>\n	<li>\n		Misclassification of employees as Independent Contracts &ndash\; recent developments\;</li>\n	<li>\n		Discrimination &ndash\; including &ldquo\;associational discrimination&rdquo\;\;</li>\n	<li>\n		Retaliation claims - recent case decisions\;</li>\n	<li>\n		Liability insurance issues for employers\;</li>\n	<li>\n		Legislative update\; and</li>\n	<li>\n		the Latest news in Data Security</li>\n</ul>\n<em><span style="font-size:12px\;"><span style="font-family:arial\;">Are you\, like many of us\, dissatisfied with your physical appearance? &nbsp\;Do you perceive yourself too skinny\, too short\, too tall or perhaps a bit too heavy?&nbsp\; Well take heart comrades.&nbsp\; Soon those qualities that trouble us may be our ticket to a new job\, or they may be the reason we keep a current position in the face of a layoff.&nbsp\; Why has my size suddenly become my shield against &ldquo\;injustice&rdquo\; you ask? &nbsp\;It&rsquo\;s our old\, and ever expanding\, friend Employment Law\, and of course the inevitable fear his trends instill in the hearts and minds of business owners making hiring and firing decisions.<br />\nThe latest discrimination trend coming to a jurisdiction near you involves the implementation of laws prohibiting discrimination on the basis of height and weight. &nbsp\;Michigan already has one. The District of Columbia has a law banning discrimination on the basis of personal appearance.&nbsp\; And not to be left out\, Massachusetts appears poised to join their ranks.&nbsp\; Representative Byron Rushing (9<sup>th</sup> Suffolk) has proposed an amendment to our existing discrimination laws that will make any discrimination on the basis of height and weight unlawful. (House Bill No. 1758) The bill is moving rapidly through our Congress\, and it looks to be on the books in 2014.&nbsp\;<br />\nTo learn more on this topic and other trending issues in employment law\, please join me on November 13\, 2013 at the Tri-Town Chamber of Commerce in Mansfield for another edition of Employment Law Update. This session will run from 7:45 AM - </span></span></em><span style="font-family:times new roman\,serif\;"><span style="font-size:12.0pt\;"><em><span style="font-size:12px\;"><span style="font-family:arial\;">9:00 AM.&nbsp\;</span></span></em></span></span><br />\n<br />\n<strong>About Foley &amp\; Foley\, PC.</strong><br />\nThey represent businesses\, large and small\, in employment matters\, labor relations and all aspects of litigation. Their mission is solving problems and anticipating issues so you can concentrate on your business.<br />\nThey are seasoned lawyers who offer a unique blend of experience. They are not a jack of all trades but the master of one: the workplace. Their core focus is Employment and Labor Law in the Public and Private Sectors. Foley &amp\; Foley has a robust Litigation practice to counsel and advocate on behalf of your business.<br />\n
LOCATION:Located at the Tri-Town Chamber of Commerce Building in the Deutsche Bank Championship Conference Room at 280 School St.\, Mansfield\, MA (the building is located to the right and set behind Kohl's)
UID:e.1730.388
SEQUENCE:3
DTSTAMP:20260421T091727Z
URL:https://www.tri-townchamber.org/events/details/employment-law-update-11-13-2013-388
END:VEVENT

END:VCALENDAR
