BEGIN:VCALENDAR
VERSION:2.0
PRODID:-//ChamberMaster//Event Calendar 2.0//EN
METHOD:PUBLISH
X-PUBLISHED-TTL:P3D
REFRESH-INTERVAL:P3D
CALSCALE:GREGORIAN
BEGIN:VEVENT
DTSTART:20141112T124500Z
DTEND:20141112T140000Z
X-MICROSOFT-CDO-ALLDAYEVENT:FALSE
SUMMARY:Employment Law Annual Update
DESCRIPTION:The regulations that govern today's workplace are extensive and ever expanding. Owners and supervisors have significant exposure and liability\, in some cases personal\, for violating these rules and regulations.\n\n \n\nThis is the perfect time for all Chamber members to obtain a better understanding of their compliance obligations and initiate new measures to better manage their Human Resource related risk. With that mission in mind\, Timothy Kenneally of Foley & Foley PC will provide his annual Employment Law Update on November 12\, 2014 beginning at 7:45 A.M. at the Chamber House.\n\n \n\nThe following identify compliance obligations and will be discussed during the upcoming seminar: to download copies of these resources\, click here\n\n\n	A Risk Management Toolbox for Employers that addresses recent past\, the present\, and the future of Massachusetts and Federal Employment Law. That Toolbox is arranged as a checklist to help companies determine if they have kept pace with some of the recent developments in the law (their company's compliance obligations)\;\n	A Synopsis of Massachusetts and Federal Employment Law and Workplace Regulations. We prepared this Synopsis to help companies of all sizes navigate the extensive and expanding regulations the govern their workplace.\n	An FMLA Survival Guide for Employers addressing intermittent leave and providing advice on how to manage and curb abuse\; and\n	The Subject Matter Checklist for the Diagnostic Audit of Employment Policies and Practices. My firm uses this checklist as a roadmap when we conduct Attorney/Client privileged confidential and protected audits. These audits are a very effective way of identifying issues before they become time consuming and expensive distractions.\n\n Attorney Kenneally will be pleased to discuss any questions you may have about the information contain within these documents at the seminar.  We hope to see you there.\n\n\n\ndocuments
X-ALT-DESC;FMTTYPE=text/html:The regulations that govern today&rsquo\;s workplace are extensive and ever expanding. Owners and supervisors have significant exposure and liability\, in some cases personal\, for violating these rules and regulations.<br />\n&nbsp\;<br />\nThis is the perfect time for all Chamber members to obtain a better understanding of their compliance obligations and initiate new measures to better manage their Human Resource related risk. With that mission in mind\, <strong>Timothy Kenneally of Foley &amp\; Foley PC </strong>will provide his annual Employment Law Update on November 12\, 2014 beginning at 7:45 A.M. at the Chamber House.<br />\n&nbsp\;<br />\n<em>The following identify compliance obligations and will be discussed during the upcoming seminar: to download copies of these resources\, <a href="http://foleylawpractice.com/lawfirm-resources.html">click here</a></em>\n\n<ul>\n	<li>A Risk Management Toolbox for Employers that addresses recent past\, the present\, and the future of Massachusetts and Federal Employment Law. That Toolbox is arranged as a checklist to help companies determine if they have kept pace with some of the recent developments in the law (their company&rsquo\;s compliance obligations)\;</li>\n	<li>A Synopsis of Massachusetts and Federal Employment Law and Workplace Regulations. We prepared this Synopsis to help companies of all sizes navigate the extensive and expanding regulations the govern their workplace.</li>\n	<li>An FMLA Survival Guide for Employers addressing intermittent leave and providing advice on how to manage and curb abuse\; and</li>\n	<li>The Subject Matter Checklist for the Diagnostic Audit of Employment Policies and Practices. My firm uses this checklist as a roadmap when we conduct Attorney/Client privileged confidential and protected audits. These audits are a very effective way of identifying issues before they become time consuming and expensive distractions.</li>\n</ul>\n&nbsp\;Attorney Kenneally will be pleased to discuss any questions you may have about the information contain within these documents at the seminar.&nbsp\; We hope to see you there.<br />\n<br />\ndocuments
LOCATION:at the Tri-Town Chamber office 280 School St.\, Building L100
UID:e.1730.1076
SEQUENCE:3
DTSTAMP:20260420T113517Z
URL:https://www.tri-townchamber.org/events/details/employment-law-annual-update-11-12-2014-1076
END:VEVENT

END:VCALENDAR
