BEGIN:VCALENDAR
VERSION:2.0
PRODID:-//ChamberMaster//Event Calendar 2.0//EN
METHOD:PUBLISH
X-PUBLISHED-TTL:P3D
REFRESH-INTERVAL:P3D
CALSCALE:GREGORIAN
BEGIN:VEVENT
DTSTART:20140607T120000Z
DTEND:20140607T180000Z
X-MICROSOFT-CDO-ALLDAYEVENT:FALSE
SUMMARY:Electronics and Appliance Recycling Event! Hosted by: Miller Recycling Corporation
DESCRIPTION:Items accepted for free: Computer towers\, printers\, cell phone\, radios\, home appliances\,\n\nVCR/DVD players\, video game system\, washer/dryers\, stoves\, microwaves\, keyboards\, etc.\n\n\n\nItems accepted for a fee:\n\nMonitors/Televisions: $8.00 each (any size)\n\nWood televisions: $15.00 each\n\nFreon Units: $5.00 each (Air conditioners\, refrigerators\, etc.)
X-ALT-DESC;FMTTYPE=text/html:<h4><strong>Items accepted for free: Computer towers\, printers\, cell phone\, radios\, home appliances\,<br />\nVCR/DVD players\, video game system\, washer/dryers\, stoves\, microwaves\, keyboards\, etc.</strong><br />\n<br />\n<strong>Items accepted for a fee</strong>:<br />\n<strong>Monitors/Televisions: $8.00 each (any size)<br />\nWood televisions: $15.00 each<br />\nFreon Units: $5.00 each (Air conditioners\, refrigerators\, etc.)</strong><br />\n&nbsp\;</h4>\n
LOCATION:73 Plymouth Street Mansfield\, MA 02048
UID:e.1730.1017
SEQUENCE:3
DTSTAMP:20260420T201951Z
URL:https://www.tri-townchamber.org/events/details/electronics-and-appliance-recycling-event-hosted-by-miller-recycling-corporation-06-07-2014-1017
END:VEVENT

END:VCALENDAR
