BEGIN:VCALENDAR
VERSION:2.0
PRODID:-//ChamberMaster//Event Calendar 2.0//EN
METHOD:PUBLISH
X-PUBLISHED-TTL:P3D
REFRESH-INTERVAL:P3D
CALSCALE:GREGORIAN
BEGIN:VEVENT
DTSTART:20130928T130000Z
DTEND:20130928T180000Z
X-MICROSOFT-CDO-ALLDAYEVENT:FALSE
SUMMARY:Electronic recycle day and bike collection
DESCRIPTION:All welcome to Saint Mary\;s Church Electronic and bicycle recycle day Sat September 28th from 9 a.m. to 2 p.m at the parking lot located on 1 Powers Street\, Norton Accepting all electronics to include monitors\, computers\, computer games\, stereo equipment\, copy and fax machines\, printers\, TV's and item that has a plug. We are also accepting any appliances\, such as washers\, dryers\, stoves\, refrigerators as well as lawn mowers\, snow blowers with the gas removed\, exercise equipment and grills.The recycle event will have low fees of $5 each r computer\, $10 any monitor or small TV less than 19"\, $15 each TV between 19" and 26" and $20 each TV over 26" wide and wood console TV's\, projection TV's $25 each. . Any appliance are $10 each. Any cell phones\, car\, truck batteries are free. Bike recycle day Do you have a older/newer road\, mountain\, bmx\, adult or kids bikes collecting dust and not used much. It does not matter the condition of the bikes. Any bike is a good one..Bikes are to be reused\, fixed where needed and sold .Church benefits from part of sales. Please bring bike to parking lot..
X-ALT-DESC;FMTTYPE=text/html:All welcome to Saint Mary\;s Church Electronic and bicycle recycle day Sat September 28th from 9 a.m. to 2 p.m at the parking lot located on 1 Powers Street\, Norton Accepting all electronics to include monitors\, computers\, computer games\, stereo equipment\, copy and fax machines\, printers\, TV&#39\;s and item that has a plug. We are also accepting any appliances\, such as washers\, dryers\, stoves\, refrigerators as well as lawn mowers\, snow blowers with the gas removed\, exercise equipment and grills.The recycle event will have low fees of $5 each r computer\, $10 any monitor or small TV less than 19&quot\;\, $15 each TV between 19&quot\; and 26&quot\; and $20 each TV over 26&quot\; wide and wood console TV&#39\;s\, projection TV&#39\;s $25 each. . Any appliance are $10 each. Any cell phones\, car\, truck batteries are free. Bike recycle day Do you have a older/newer road\, mountain\, bmx\, adult or kids bikes collecting dust and not used much. It does not matter the condition of the bikes. Any bike is a good one..Bikes are to be reused\, fixed where needed and sold .Church benefits from part of sales. Please bring bike to parking lot.. 
LOCATION:Saint Mary's Church\, 1 Power Street\, Norton\, MA
UID:e.1730.409
SEQUENCE:3
DTSTAMP:20260421T113806Z
URL:https://www.tri-townchamber.org/events/details/electronic-recycle-day-and-bike-collection-09-28-2013-409
END:VEVENT

END:VCALENDAR
