BEGIN:VCALENDAR
VERSION:2.0
PRODID:-//ChamberMaster//Event Calendar 2.0//EN
METHOD:PUBLISH
X-PUBLISHED-TTL:P3D
REFRESH-INTERVAL:P3D
CALSCALE:GREGORIAN
BEGIN:VEVENT
DTSTART:20150405T143000Z
DTEND:20150405T180000Z
X-MICROSOFT-CDO-ALLDAYEVENT:FALSE
SUMMARY:Easter Brunch at Norton Country Club
DESCRIPTION:Mark your calendars for the annual Norton Country Club Easter Brunch on Sunday\, April 5th from 10:30 am until 2:00 pm!  You must make a reservation for this great annual event.  Please call (508) 285-2400 ext. 100 to make your reservation.  The brunch is filled with popular items\, such as an omelet station\, breakfast fare\, pasta\, chicken\, fish and carving stations.  Make sure you save room for dessert\, as there will be an assortment of cakes & pies as well as an ice cream sundae bar!  We accept parties of all sizes.  Please make sure to reserve your time quickly\, as the reservations fill up fast!\n\n\n\nWe hope to see you there!\n\nNCC Staff
X-ALT-DESC;FMTTYPE=text/html:Mark your calendars for the annual Norton Country Club Easter Brunch on Sunday\, April 5th from 10:30 am until 2:00 pm!&nbsp\; You must make a reservation for this great annual event.&nbsp\; Please call (508) 285-2400 ext. 100 to make your reservation.&nbsp\; The brunch is filled with popular items\, such as an omelet station\, breakfast fare\, pasta\, chicken\, fish and carving stations.&nbsp\; Make sure you save room for dessert\, as there will be an assortment of cakes &amp\; pies as well as an ice cream sundae bar!&nbsp\; We accept parties of all sizes.&nbsp\; Please make sure to reserve your time quickly\, as the reservations fill up fast!<br />\n<br />\nWe hope to see you there!<br />\nNCC Staff
LOCATION:Norton Country Club 188 Oak Street Norton\, MA 02766
UID:e.1730.1567
SEQUENCE:3
DTSTAMP:20260420T050124Z
URL:https://www.tri-townchamber.org/events/details/easter-brunch-at-norton-country-club-04-05-2015-1567
END:VEVENT

END:VCALENDAR
