BEGIN:VCALENDAR
VERSION:2.0
PRODID:-//ChamberMaster//Event Calendar 2.0//EN
METHOD:PUBLISH
X-PUBLISHED-TTL:P3D
REFRESH-INTERVAL:P3D
CALSCALE:GREGORIAN
BEGIN:VEVENT
DTSTART;VALUE=DATE:20150824
DTEND;VALUE=DATE:20150825
TRANSP:TRANSPARENT
X-MICROSOFT-CDO-ALLDAYEVENT:TRUE
SUMMARY:Doolittle Home 100th Anniversary Golf Tournament
DESCRIPTION:The Doolittle Home is celebrating 100 years as a nonprofit retirement home in Foxboro by hosting a benefit Golf Tournament. All proceeds will directly impact the elderly residents of the Home in their daily lives. For non-golfers\, join us for lunch and a wonderful raffle and silent auction.
X-ALT-DESC;FMTTYPE=text/html:The Doolittle Home is celebrating 100 years as a nonprofit retirement home in Foxboro by hosting a benefit Golf Tournament. All proceeds will directly impact the elderly residents of the Home in their daily lives. For non-golfers\, join us for lunch and a wonderful raffle and silent auction.
LOCATION:Foxboro Country Club
UID:e.1730.1688
SEQUENCE:3
DTSTAMP:20260419T223817Z
URL:https://www.tri-townchamber.org/events/details/doolittle-home-100th-anniversary-golf-tournament-08-24-2015-1688
END:VEVENT

END:VCALENDAR
