BEGIN:VCALENDAR
VERSION:2.0
PRODID:-//ChamberMaster//Event Calendar 2.0//EN
METHOD:PUBLISH
X-PUBLISHED-TTL:P3D
REFRESH-INTERVAL:P3D
CALSCALE:GREGORIAN
BEGIN:VEVENT
DTSTART:20141022T230000Z
DTEND:20141023T003000Z
X-MICROSOFT-CDO-ALLDAYEVENT:FALSE
SUMMARY:Does Diabetes Affect Someone in Your Family? Keys to Diabetes Self-Management
DESCRIPTION:Learn from the Diabetes experts! Join Brigham and Women's/Mass General Health Care Center's Certified Diabetes Educator\, Lauren Godsoe\, N.P.\, along with Nutritionist Shira Hirsberg for a session that will cover:\n\n	What is diabetes?\n	Keys to diabetes self-management\n	Tools to manage your diabetes\n	How foods and nutrients affect your blood sugar\n	What counts as a carbohydrate\n	Creating a balanced plate\n\n	 \n\n\nAll of Brigham and Women's/Mass General Health Care Center's fall health classes are free and open to all -- pre-registration is required to ensure adequate seating. Please register by calling (866) 378-9164\, or by emailing us at eventsweb@partners.org -- please indicate "Newsletter Events Registration" in the subject line.
X-ALT-DESC;FMTTYPE=text/html:Learn from the Diabetes experts! Join Brigham and Women&#39\;s/Mass General Health Care Center&#39\;s Certified Diabetes Educator\, Lauren Godsoe\, N.P.\, along with Nutritionist&nbsp\;Shira Hirsberg for a session that will cover:\n<ul>\n	<li>What is diabetes?</li>\n	<li>Keys to diabetes self-management</li>\n	<li>Tools to manage your diabetes</li>\n	<li>How foods and nutrients affect your blood sugar</li>\n	<li>What counts as a carbohydrate</li>\n	<li>Creating a balanced plate<br />\n	&nbsp\;</li>\n</ul>\n\n<p class="MsoNormal" style="margin: 0in 0in 10pt"><span style="color: #1f497d\; mso-ascii-font-family: Calibri\; mso-hansi-font-family: Calibri"><font face="Calibri" size="3">All of Brigham and Women&#39\;s/Mass General Health Care Center&#39\;s fall health classes are free and open to all -- pre-registration is required to ensure adequate seating. Please register by calling (866) 378-9164\, or by emailing us at </font><a href="mailto:eventsweb@partners.org"><font color="#0000ff" face="Calibri" size="3">eventsweb@partners.org</font></a><font size="3"><font face="Calibri"> -- please indicate &quot\;Newsletter Events Registration&quot\; in the subject line.<o:p></o:p></font></font></span></p>\n
LOCATION:Third Floor Atrium Brigham and Women's/Mass General Health Care Center 20 Patriot Place\, Foxborough MA
UID:e.1730.1064
SEQUENCE:3
DTSTAMP:20260420T132450Z
URL:https://www.tri-townchamber.org/events/details/does-diabetes-affect-someone-in-your-family-keys-to-diabetes-self-management-10-22-2014-1064
END:VEVENT

END:VCALENDAR
