BEGIN:VCALENDAR
VERSION:2.0
PRODID:-//ChamberMaster//Event Calendar 2.0//EN
METHOD:PUBLISH
X-PUBLISHED-TTL:P3D
REFRESH-INTERVAL:P3D
CALSCALE:GREGORIAN
BEGIN:VEVENT
DTSTART:20130911T114500Z
DTEND:20130911T130000Z
X-MICROSOFT-CDO-ALLDAYEVENT:FALSE
SUMMARY:Do You Want Five Minutes of Fame?
DESCRIPTION:Do you want Five Minutes of Fame?  This unique networking event allows for 10 business to have 5 minutes each to talk about their product or services in a casual relaxed atmosphere\, while speaking spots are open to Members Only\, guests are encouraged to come and learn.
X-ALT-DESC;FMTTYPE=text/html:Do you want Five Minutes of Fame? &nbsp\;This unique networking event allows for 10 business to have 5 minutes each to talk about their product or services in a casual relaxed atmosphere\, while speaking spots are open to Members Only\, guests are encouraged to come and learn.<br />\n
LOCATION:Held in the Deutsche Bank Championship Conference Room at the Chamber.
UID:e.1730.369
SEQUENCE:3
DTSTAMP:20260421T114018Z
URL:https://www.tri-townchamber.org/events/details/do-you-want-five-minutes-of-fame-09-11-2013-369
END:VEVENT

END:VCALENDAR
