BEGIN:VCALENDAR
VERSION:2.0
PRODID:-//ChamberMaster//Event Calendar 2.0//EN
METHOD:PUBLISH
X-PUBLISHED-TTL:P3D
REFRESH-INTERVAL:P3D
CALSCALE:GREGORIAN
BEGIN:VEVENT
DTSTART;VALUE=DATE:20131002
DTEND;VALUE=DATE:20131003
TRANSP:TRANSPARENT
X-MICROSOFT-CDO-ALLDAYEVENT:TRUE
SUMMARY:Dining For a Cause
DESCRIPTION:DINE FOR A CAUSE\, OCTOBER 2ND. VISIT YOUR FAVORITE 99 RESTAURANT AND ENJOY AN EVENING OUT WITH FRIENDS OR FAMILY.  HAVE A GREAT EVENING\, ENJOY GREAT FOOD AND BEVERAGES AND HELP SUPPORT THE SILVER HELMET ALL AT THE SAME TIME.
X-ALT-DESC;FMTTYPE=text/html:<span style="font-family:calibri\,sans-serif\;"><span style="font-size:11.0pt\;">DINE FOR A CAUSE\, OCTOBER 2ND. VISIT YOUR FAVORITE 99 RESTAURANT AND ENJOY AN EVENING OUT WITH FRIENDS OR FAMILY.&nbsp\; HAVE A GREAT EVENING\, ENJOY GREAT FOOD AND BEVERAGES AND HELP SUPPORT THE SILVER HELMET ALL AT THE SAME TIME.&nbsp\;</span></span>
LOCATION:99 Restaurant
UID:e.1730.414
SEQUENCE:3
DTSTAMP:20260421T095600Z
URL:https://www.tri-townchamber.org/events/details/dining-for-a-cause-10-02-2013-414
END:VEVENT

END:VCALENDAR
