BEGIN:VCALENDAR
VERSION:2.0
PRODID:-//ChamberMaster//Event Calendar 2.0//EN
METHOD:PUBLISH
X-PUBLISHED-TTL:P3D
REFRESH-INTERVAL:P3D
CALSCALE:GREGORIAN
BEGIN:VEVENT
DTSTART:20260213T223000Z
DTEND:20260213T233000Z
X-MICROSOFT-CDO-ALLDAYEVENT:FALSE
SUMMARY:Dance Party
DESCRIPTION:Join us Be Inspired Together for a Galentine's inspired Dance Party
X-ALT-DESC;FMTTYPE=text/html:Join us Be Inspired Together for a Galentine&#39\;s inspired Dance Party
LOCATION:Fit Factory\, Foxboro
UID:e.1730.8437
SEQUENCE:3
DTSTAMP:20260419T175356Z
URL:https://www.tri-townchamber.org/events/details/dance-party-8437
END:VEVENT

END:VCALENDAR
