BEGIN:VCALENDAR
VERSION:2.0
PRODID:-//ChamberMaster//Event Calendar 2.0//EN
METHOD:PUBLISH
X-PUBLISHED-TTL:P3D
REFRESH-INTERVAL:P3D
CALSCALE:GREGORIAN
BEGIN:VEVENT
DTSTART:20151212T000000Z
DTEND:20151212T020000Z
X-MICROSOFT-CDO-ALLDAYEVENT:FALSE
SUMMARY:Crocheting Class
DESCRIPTION:Back by popular demand\, we will offer Crocheting Class again this Friday\, Dec 11th at 7PM. For material\, you will need at least one Medium Weight/Worsted Weight yarn and one crochet hook size H8 (5mm). You can also purchase the material at the store for $5.  The event is FREE for new attendees.
X-ALT-DESC;FMTTYPE=text/html:Back by popular demand\, we will offer Crocheting Class again this Friday\, Dec 11th at 7PM. For material\, you will need at least one Medium Weight/Worsted Weight yarn and one crochet hook size H8 (5mm). You can also purchase the material at the store for $5.&nbsp\; The event is FREE for new attendees.
LOCATION:Berry Frozen Yogurt & Smoothies\, 175 Mansfield Avenue\, Norton
UID:e.1730.2034
SEQUENCE:3
DTSTAMP:20260419T141659Z
URL:https://www.tri-townchamber.org/events/details/crocheting-class-12-11-2015-2034
END:VEVENT

END:VCALENDAR
