BEGIN:VCALENDAR
VERSION:2.0
PRODID:-//ChamberMaster//Event Calendar 2.0//EN
METHOD:PUBLISH
X-PUBLISHED-TTL:P3D
REFRESH-INTERVAL:P3D
CALSCALE:GREGORIAN
BEGIN:VEVENT
DTSTART:20130827T203000Z
DTEND:20130827T233000Z
X-MICROSOFT-CDO-ALLDAYEVENT:FALSE
SUMMARY:Covidien Wellness Walk
DESCRIPTION:We invite you\, your friends and family to the 2nd Annual Covidien Wellness Walk! Walk the front 9 holes of TPC Boston just hours before the Championship opens and before the top 100 PGA TOUR golfers compete in the FedExCup Playoffs. The Covidien Wellness Walk benefits Joslin Diabetes Center\, the world?s preeminent diabetes research\, clinical care and education institution. REGISTRATION ENTRY:    $25 for adults 16 and older    $30 after August 20    Children 15 years old and younger walk FREE! REGISTRATION INCLUDES:    Entry to participate in the Covidien Wellness Walk    A Good-Any-Day grounds ticket to the Deutsche Bank Championship    Commemorative Covidien Wellness Walk gifts (First 300 registered)    A 15% off coupon for your next Marathon Sports purchase TO REGISTER AND RECEIVE MORE INFORMATION PLEASE VISIT: www.dbchampionship.com/walk
X-ALT-DESC;FMTTYPE=text/html:We invite you\, your friends and family to the 2nd Annual Covidien Wellness Walk! Walk the front 9 holes of TPC Boston&nbsp\;just hours before the Championship opens and before the top 100 PGA TOUR golfers compete in the FedExCup Playoffs.&nbsp\;The Covidien Wellness Walk benefits Joslin Diabetes Center\, the world?s preeminent diabetes research\, clinical care and&nbsp\;education institution. REGISTRATION ENTRY: &raquo\;&raquo\; $25 for adults 16 and older &raquo\;&raquo\; $30 after August 20 &raquo\;&raquo\; Children 15 years old and younger walk FREE! REGISTRATION INCLUDES: &raquo\;&raquo\; Entry to participate in the Covidien Wellness Walk &raquo\;&raquo\; A Good-Any-Day grounds ticket to the Deutsche Bank Championship &raquo\;&raquo\; Commemorative Covidien Wellness Walk gifts (First 300 registered) &raquo\;&raquo\; A 15% off coupon for your next Marathon Sports purchase TO REGISTER AND RECEIVE MORE INFORMATION PLEASE VISIT: www.dbchampionship.com/walk
LOCATION:TPC Boston 400 Arnold Palmer Blvd. Norton\, MA 02766
UID:e.1730.390
SEQUENCE:3
DTSTAMP:20260421T131943Z
URL:https://www.tri-townchamber.org/events/details/covidien-wellness-walk-08-27-2013-390
END:VEVENT

END:VCALENDAR
