BEGIN:VCALENDAR
VERSION:2.0
PRODID:-//ChamberMaster//Event Calendar 2.0//EN
METHOD:PUBLISH
X-PUBLISHED-TTL:P3D
REFRESH-INTERVAL:P3D
CALSCALE:GREGORIAN
BEGIN:VEVENT
DTSTART:20131107T000000Z
DTEND:20131107T013000Z
X-MICROSOFT-CDO-ALLDAYEVENT:FALSE
SUMMARY:Cosmetic Laser Treatments: Know your options
DESCRIPTION:Physician experts at Brigham and Women's/Mass General Health Care Center will be presenting the following educational sessions:\n\n\n\nSpeakers: Richard Baum\, MD\; Jessica Erdmann-Sager\, MD
X-ALT-DESC;FMTTYPE=text/html:<span style="color:#333333\;"><span style="font-family:verdana\,sans-serif\;"><span style="font-size:9.0pt\;">Physician experts at Brigham and Women&rsquo\;s/Mass General Health Care Center will be presenting the following educational sessions:</span></span></span><br />\n<br />\n<span style="color:#333333\;"><span style="font-family:verdana\,sans-serif\;"><span style="font-size:9.0pt\;">Speakers: Richard Baum\, MD\; Jessica Erdmann-Sager\, MD</span></span></span>
LOCATION:Brigham and Women& /Mass General Health Care Center at Patriot Place Foxborough\, 3d Floor Atrium
UID:e.1730.425
SEQUENCE:3
DTSTAMP:20260421T083411Z
URL:https://www.tri-townchamber.org/events/details/cosmetic-laser-treatments-know-your-options-11-06-2013-425
END:VEVENT

END:VCALENDAR
