BEGIN:VCALENDAR
VERSION:2.0
PRODID:-//ChamberMaster//Event Calendar 2.0//EN
METHOD:PUBLISH
X-PUBLISHED-TTL:P3D
REFRESH-INTERVAL:P3D
CALSCALE:GREGORIAN
BEGIN:VEVENT
DTSTART:20150320T223000Z
DTEND:20150321T023000Z
X-MICROSOFT-CDO-ALLDAYEVENT:FALSE
SUMMARY:Cooking For A Cause
DESCRIPTION:A Unique dining experience with Former White House Chef Sir Master Chef Ronnie J. Seaton Sr. at Lombardo's in Randolph MA The Gala is a fundraiser for the National Black Doll Museum of History & Culture Located in Mansfield MA. The evening festivities include a cocktail reception\, silent auction\, cash bar\, Five Course Presidential favorite dishes prepared by Chef with tales from the white house\, Gift bags included
X-ALT-DESC;FMTTYPE=text/html:A Unique dining experience with Former White House Chef Sir Master Chef Ronnie J. Seaton Sr. at Lombardo&#39\;s in Randolph MA The Gala is a fundraiser for the National Black Doll Museum of History &amp\; Culture Located in Mansfield MA. The evening festivities include a cocktail reception\, silent auction\, cash bar\, Five Course Presidential favorite dishes prepared by Chef with tales from the white house\, Gift bags included
LOCATION:Lombardo's 6 Billings Street Randolph\, MA
UID:e.1730.1568
SEQUENCE:3
DTSTAMP:20260420T045831Z
URL:https://www.tri-townchamber.org/events/details/cooking-for-a-cause-03-20-2015-1568
END:VEVENT

END:VCALENDAR
