BEGIN:VCALENDAR
VERSION:2.0
PRODID:-//ChamberMaster//Event Calendar 2.0//EN
METHOD:PUBLISH
X-PUBLISHED-TTL:P3D
REFRESH-INTERVAL:P3D
CALSCALE:GREGORIAN
BEGIN:VEVENT
DTSTART:20150815T170000Z
DTEND:20150815T200000Z
X-MICROSOFT-CDO-ALLDAYEVENT:FALSE
SUMMARY:Cooking Demo at Wines & More
DESCRIPTION:COOKING DEMONSTRATION\n\nSaturday\, August 15th | from 1-4pm\n\nChef Kelly is back for a Cooking Demo serving up some delicious Seasonal Favorites!
X-ALT-DESC;FMTTYPE=text/html:<p style="box-sizing: border-box\; margin: 0px 0px 10px\; font-size: 16px\; line-height: 18px\; color: rgb(73\, 47\, 146)\; font-family: 'Helvetica Neue'\, Helvetica\, Arial\, sans-serif\;">COOKING DEMONSTRATION</p>\n\n<p style="box-sizing: border-box\; margin: 0px 0px 10px\; font-size: 16px\; line-height: 18px\; color: rgb(73\, 47\, 146)\; font-family: 'Helvetica Neue'\, Helvetica\, Arial\, sans-serif\;"><b style="box-sizing: border-box\;">Saturday\, August 15th | from 1-4pm</b></p>\n\n<p style="box-sizing: border-box\; margin: 0px 0px 10px\; font-size: 12px\; line-height: 15px\; color: rgb(0\, 0\, 0)\; font-family: 'Helvetica Neue'\, Helvetica\, Arial\, sans-serif\;">Chef Kelly is back for a Cooking Demo serving up some delicious Seasonal Favorites!</p>\n
LOCATION:Wine's & More Mansfield
UID:e.1730.1702
SEQUENCE:3
DTSTAMP:20260419T223819Z
URL:https://www.tri-townchamber.org/events/details/cooking-demo-at-wines-more-08-15-2015-1702
END:VEVENT

END:VCALENDAR
