BEGIN:VCALENDAR
VERSION:2.0
PRODID:-//ChamberMaster//Event Calendar 2.0//EN
METHOD:PUBLISH
X-PUBLISHED-TTL:P3D
REFRESH-INTERVAL:P3D
CALSCALE:GREGORIAN
BEGIN:VEVENT
DTSTART:20131010T213000Z
DTEND:20131010T231500Z
X-MICROSOFT-CDO-ALLDAYEVENT:FALSE
SUMMARY:Community STEM Forum
DESCRIPTION:Community STEM Forum \n\n	Preparing Students to Live and Work in the 21st Century\n\n	Focusing on the importance of skills in science\, technology\, engineering and math (STEM)\n\n	 \n\n	Invention and innovation have shaped and continues to shape American history and America's role as a world leader. Each century requires that people learn new skills and knowledge to support the changes driven by invention and innovation. Living in the 21st Century\, necessitates at least literacy in STEM (science\, technology\, engineering and math) for people of all ages.  In the workplace\, STEM expertise expands career opportunities for individuals and sustains economic growth for businesses.\n\n	 \n\n	See examples of programs and activities that support STEM education in Mansfield in school and out of school for all ages.  Displays include: Inventors Fair\, Einstein and the Relativity of Bees\, Integrating STEM-Arts-Humanities and more
X-ALT-DESC;FMTTYPE=text/html:<p>\n	<span style="font-size:11px\;"><span style="font-family:arial\;"><strong><span style="color:black\;">Community STEM Forum </span></strong><br />\n	<strong><span style="color:black\;">Preparing Students to Live and Work in the 21<sup>st</sup> Century</span></strong><br />\n	<strong><em><span style="color:black\;">Focusing on the importance of skills in science\, technology\, engineering and math (STEM)</span></em></strong><br />\n	&nbsp\;<br />\n	Invention and innovation have shaped and continues to shape American history and America&rsquo\;s role as a world leader. Each century requires that people learn new skills and knowledge to support the changes driven by invention and innovation. Living in the 21st Century\, necessitates at least literacy in STEM (science\, technology\, engineering and math) for people of all ages.&nbsp\; In the workplace\, STEM expertise expands career opportunities for individuals and sustains economic growth for businesses.<br />\n	&nbsp\;<br />\n	See examples of programs and activities that support STEM education in Mansfield in school and out of school for all ages.&nbsp\; Displays include: <em>Inventors Fair\, Einstein and the Relativity of Bees\, Integrating STEM-Arts-Humanities and more</em></span></span></p>\n
LOCATION:Jordan Jackson Elementary School 255 East Street\, Mansfield - MA
UID:e.1730.418
SEQUENCE:3
DTSTAMP:20260421T113256Z
URL:https://www.tri-townchamber.org/events/details/community-stem-forum-10-10-2013-418
END:VEVENT

END:VCALENDAR
