BEGIN:VCALENDAR
VERSION:2.0
PRODID:-//ChamberMaster//Event Calendar 2.0//EN
METHOD:PUBLISH
X-PUBLISHED-TTL:P3D
REFRESH-INTERVAL:P3D
CALSCALE:GREGORIAN
BEGIN:VEVENT
DTSTART:20140515T230000Z
DTEND:20140516T003000Z
X-MICROSOFT-CDO-ALLDAYEVENT:FALSE
SUMMARY:Common Running Injuries and Prevention
DESCRIPTION:Incorporating exercise into your daily and weekly routine is important\, but overusing certain parts of the body in the wrong way can lead to injury. Join BWH Orthopedic surgeon Elizabeth Matzkin MD\, MGH Orthopaedic surgeon Eric Berkson MD\, and local runner Charlotte Walsh of Charles River Running shop as they share their perspectives on common running injuries and prevention.
X-ALT-DESC;FMTTYPE=text/html:Incorporating exercise into your daily and weekly routine is important\, but overusing certain parts of the body in the wrong way can lead to injury. Join BWH Orthopedic surgeon Elizabeth Matzkin MD\, MGH Orthopaedic surgeon Eric Berkson MD\, and local runner&nbsp\;Charlotte Walsh of Charles River Running shop as they&nbsp\;share their perspectives on common running injuries and prevention.&nbsp\;
LOCATION:Brigham and Women's/Mass General Health Care Center 3d Floor Atrium 20 Patriot Place\, Foxborough
UID:e.1730.1002
SEQUENCE:3
DTSTAMP:20260420T221934Z
URL:https://www.tri-townchamber.org/events/details/common-running-injuries-and-prevention-05-15-2014-1002
END:VEVENT

END:VCALENDAR
