BEGIN:VCALENDAR
VERSION:2.0
PRODID:-//ChamberMaster//Event Calendar 2.0//EN
METHOD:PUBLISH
X-PUBLISHED-TTL:P3D
REFRESH-INTERVAL:P3D
CALSCALE:GREGORIAN
BEGIN:VEVENT
DTSTART:20140626T190000Z
DTEND:20140626T210000Z
X-MICROSOFT-CDO-ALLDAYEVENT:FALSE
SUMMARY:College Essay Workshop
DESCRIPTION:Campus Bound is hosting a College Essay Workshop in Mansfield! Essay workshops will explore the process of writing a college admissions essay and will provide tips for preparing and presenting memorable and honest insights into one's character and values. A former college admissions officer will help students understand how topic-selection\, writing style\, and other features can elevate an essay from adequate to exceptional.   This event is ideal for rising high school seniors.
X-ALT-DESC;FMTTYPE=text/html:Campus Bound is hosting a College Essay Workshop in Mansfield! Essay workshops will explore the process of writing a college admissions essay and will provide tips for preparing and presenting memorable and honest insights into one&#39\;s character and values. A former college admissions officer will help students understand how topic-selection\, writing style\, and other features can elevate an essay from adequate to exceptional. &nbsp\; This event is ideal for rising high school seniors.
LOCATION:Tri-Town Chamber of Commerce building conference room 280 School Street\, in Mansfield Crossing Shopping Plaza
UID:e.1730.1020
SEQUENCE:3
DTSTAMP:20260420T221337Z
URL:https://www.tri-townchamber.org/events/details/college-essay-workshop-06-26-2014-1020
END:VEVENT

END:VCALENDAR
