BEGIN:VCALENDAR
VERSION:2.0
PRODID:-//ChamberMaster//Event Calendar 2.0//EN
METHOD:PUBLISH
X-PUBLISHED-TTL:P3D
REFRESH-INTERVAL:P3D
CALSCALE:GREGORIAN
BEGIN:VEVENT
DTSTART:20140517T130000Z
DTEND:20140517T160000Z
X-MICROSOFT-CDO-ALLDAYEVENT:FALSE
SUMMARY:Clean Up Foxboro Day
DESCRIPTION:Register Today to Clean Up Foxborough!  http://cleanupfoxboroday.org/
X-ALT-DESC;FMTTYPE=text/html:Register Today to Clean Up Foxborough!&nbsp\;&#8203\;http://cleanupfoxboroday.org/<br />\n&nbsp\;
LOCATION:
UID:e.1730.992
SEQUENCE:3
DTSTAMP:20260420T221350Z
URL:https://www.tri-townchamber.org/events/details/clean-up-foxboro-day-05-17-2014-992
END:VEVENT

END:VCALENDAR
