BEGIN:VCALENDAR
VERSION:2.0
PRODID:-//ChamberMaster//Event Calendar 2.0//EN
METHOD:PUBLISH
X-PUBLISHED-TTL:P3D
REFRESH-INTERVAL:P3D
CALSCALE:GREGORIAN
BEGIN:VEVENT
DTSTART:20140730T203000Z
DTEND:20140730T230000Z
X-MICROSOFT-CDO-ALLDAYEVENT:FALSE
SUMMARY:Chamber's Summer Business BBQ
DESCRIPTION:Head over to the Chamber House in Mansfield Crossing for the \n\nFirst Annual Tri-Town Chamber Summer Business Barbeque celebrating \n\nall businesses in Mansfield\, Foxboro and Norton.\n\n\n\nHave a hamburger with the Chamber President\, sip a soda with a State Rep or banter with a Board Member.  Get to know the people who represent business in our community.  All businesses are invited to attend\, whether you are a Chamber Member or not\, but Please RSVP.\n\n.\n\nThis is a Free Event however RSVP is Essential\,\n\nso we can throw enough fixin's on the BBQ!\n\n\n\nThank you to our Event Supporter's\;\n\n\n	MANSFIELD BANK \n\n\n\n	THE PRO'S CAR CARE COMPLEX \n	BARROWS INSURANCE AGENCY\n	Attorney Timothy Kenneally \n	Brigham and Women's/Mass General Health Care Center
X-ALT-DESC;FMTTYPE=text/html:Head over to the Chamber House in Mansfield Crossing for the&nbsp\;<br />\nFirst Annual Tri-Town Chamber Summer Business Barbeque celebrating&nbsp\;<br />\nall businesses in Mansfield\, Foxboro and Norton.<br />\n<br />\nHave a hamburger with the Chamber President\, sip a soda with a State Rep or banter&nbsp\;with a Board Member. &nbsp\;Get to know the people who represent business in our&nbsp\;community. &nbsp\;All businesses are invited to attend\, whether you are a Chamber&nbsp\;Member or not\, but Please RSVP.<br />\n.<br />\nThis is a Free Event however <strong>RSVP is Essential</strong>\,<br />\nso we can throw enough fixin&#39\;s on the BBQ!<br />\n<br />\n<em>Thank you to our Event Supporter&#39\;s\;</em>\n\n<ul>\n	<li><span style="font-size:18px\;"><span style="font-size:26px\;"><strong>MANSFIELD BANK&nbsp\;</strong></span></span></li>\n</ul>\n\n<ul>\n	<li><span style="font-size:18px\;"><span style="font-size:22px\;"><strong>THE PRO&#39\;S CAR CARE COMPLEX&nbsp\;</strong></span></span></li>\n	<li><span style="font-size:18px\;"><span style="font-size:22px\;"><strong>BARROWS INSURANCE AGENCY</strong></span></span></li>\n	<li><span style="font-size:22px\;"><span style="line-height: 28.799999237060547px\;">Attorney Timothy&nbsp\;</span>Kenneally<span style="line-height: 28.799999237060547px\;">&nbsp\;</span></span></li>\n	<li><span style="font-size:18px\;"><span style="font-size:22px\;">Brigham and Women&#39\;s/Mass General Health Care Center&nbsp\;</span></span></li>\n</ul>\n
LOCATION:280 School Street\, Building L100 in Mansfield Crossing\, enter the main Entrance of Mansfield Crossing and follow the signs to Kohl's Department Store\, our building is to the right of Kohl's.
UID:e.1730.1025
SEQUENCE:3
DTSTAMP:20260420T182716Z
URL:https://www.tri-townchamber.org/events/details/chamber-s-summer-business-bbq-07-30-2014-1025
END:VEVENT

END:VCALENDAR
