BEGIN:VCALENDAR
VERSION:2.0
PRODID:-//ChamberMaster//Event Calendar 2.0//EN
METHOD:PUBLISH
X-PUBLISHED-TTL:P3D
REFRESH-INTERVAL:P3D
CALSCALE:GREGORIAN
BEGIN:VEVENT
DTSTART:20150722T203000Z
DTEND:20150722T230000Z
X-MICROSOFT-CDO-ALLDAYEVENT:FALSE
SUMMARY:Chamber's Summer Business BBQ
DESCRIPTION:Head over to the Chamber House in Mansfield Crossing for the \n\nSecond Annual Tri-Town Chamber Summer Business Barbeque celebrating \n\nall businesses in Mansfield\, Foxboro and Norton.\n\n\n\nHave a chat with the Chamber President\, sip a soda with an Ambassador or banter with a Board Member.  Get to know the people who represent your business in our community.  All businesses are invited to attend\, whether you are a Chamber Member or not\, but Please RSVP.\n\n.\n\nThis is a Free Event however RSVP is Essential\,\n\nso we can throw enough fixin's on the BBQ!\n\n\n\n2015 Sponsors\n\n\n	MANSFIELD BANK \n\n\n\n	THE PRO'S CAR CARE COMPLEX \n	BETRO & COMPANY\, PC\n	BARROWS INSURANCE AGENCY\n	Brigham and Women's/Mass General Health Care Center\n	Tedeschi Food Shop
X-ALT-DESC;FMTTYPE=text/html:Head over to the Chamber House in Mansfield Crossing for the&nbsp\;<br />\nSecond Annual Tri-Town Chamber Summer Business Barbeque celebrating&nbsp\;<br />\nall businesses in Mansfield\, Foxboro and Norton.<br />\n<br />\nHave a chat with the Chamber President\, sip a soda with an Ambassador or banter with a Board Member.&nbsp\; Get to know the people who represent your business in our&nbsp\;community.&nbsp\;&nbsp\;All businesses are invited to attend\, whether you are a Chamber&nbsp\;Member or not\, but Please RSVP.<br />\n.<br />\nThis is a Free Event however <strong>RSVP is Essential</strong>\,<br />\nso we can throw enough fixin&#39\;s on the BBQ!<br />\n<br />\n<em>2015 Sponsors</em>\n\n<ul>\n	<li><span style="font-size:18px\;"><span style="font-size:26px\;"><strong>MANSFIELD BANK&nbsp\;</strong></span></span></li>\n</ul>\n\n<ul>\n	<li><span style="font-size:18px\;"><span style="font-size:22px\;"><strong>THE PRO&#39\;S CAR CARE COMPLEX&nbsp\;</strong></span></span></li>\n	<li><span style="font-size:18px\;"><span style="font-size:22px\;"><strong>BETRO&nbsp\;&amp\; COMPANY\, PC</strong></span></span></li>\n	<li><span style="font-size:18px\;"><span style="font-size:22px\;"><strong>BARROWS INSURANCE AGENCY</strong></span></span></li>\n	<li><span style="font-size:18px\;"><span style="font-size:22px\;">Brigham and Women&#39\;s/Mass General Health Care Center</span></span></li>\n	<li><span style="font-size:22px\;"><span style="font-family:calibri\,sans-serif\;">Tedeschi Food Shop</span>&nbsp\;</span></li>\n</ul>\n
LOCATION:280 School Street\, Building L100 in Mansfield Crossing\, enter the main Entrance of Mansfield Crossing and follow the signs to Kohl's Department Store\, our building is to the right of Kohl's.
UID:e.1730.1237
SEQUENCE:3
DTSTAMP:20260419T223710Z
URL:https://www.tri-townchamber.org/events/details/chamber-s-summer-business-bbq-07-22-2015-1237
END:VEVENT

END:VCALENDAR
