BEGIN:VCALENDAR
VERSION:2.0
PRODID:-//ChamberMaster//Event Calendar 2.0//EN
METHOD:PUBLISH
X-PUBLISHED-TTL:P3D
REFRESH-INTERVAL:P3D
CALSCALE:GREGORIAN
BEGIN:VEVENT
DTSTART:20150327T220000Z
DTEND:20150328T020000Z
X-MICROSOFT-CDO-ALLDAYEVENT:FALSE
SUMMARY:Chamber's Annual Auction! Roaring 20's Theme
DESCRIPTION:Join us to Travel back to the scandalous time of the bygone Roaring Twenties!  This will be a fantastic night out for all and were excited to share it with you\n\n\n\nGlimpse of What you can Expect\;\n\n	Door Prizes \n	hors d'oeuvres (hot and cold)\n	You will receive Funny Money to Play - Poker\, Roulette Black Jack and Craps \n	Caricature Artist (complimentary)\n	Photo Booth with Props (complimentary)\n	Jazz Music\n	Ice Breaker Game with Prize (participation is optional)\n\nIn addition to above\;\n\n\n	"Bootleggers" Wine Wall (over 75 bottles of wine from $12-$75)\n	Over 60 Silent Auctions to Bid on\n	Basket Raffle Table\n	5 Live Auction Items!\n\nRemember while dressing the theme may be encouraged it is only required for the Swankiest Costume Contest!      \n\n\n\nWe are building our Silent Auction Items. A variety of items Overnights\, Tickets to Sport's Events or Concerts\, Gift Certificate\, Gift Basket\, Services... Sneak Peak will be circulated a week before the event!\n\n\n\nOur Sponsors to Date:\n\n\n\nCOTTON CLUB PARTNER:\n\nDeutsche Bank Championship\n\nMansfield Bank\n\n \n\nBOOTLEGGERS WALL:   Horizon Beverage\n\n \n\nBABE RUTH:  \n\nBarrows Insurance Agency\n\nMansfield Crossing\n\nNorth Easton Savings Bank\n\nPatriot Place\n\nXfinity Center\n\n\n\nFLAPPER & WING TIP PARTNER: \n\nESP Solutions\n\nHockomock Area YMCA\n\nMGA Links\, Norton\n\n\n\nSILENT MOVIE PARTNER: \n\nBetro & Company\, Foxborough\n\n Old Station Outdoor & Landscape Supply
X-ALT-DESC;FMTTYPE=text/html:Join us to Travel back to the scandalous time of the bygone Roaring Twenties! &nbsp\;This will be a fantastic night out for all and were excited to share it with you<br />\n<br />\nGlimpse of What you can Expect\;\n<ul>\n	<li>Door Prizes&nbsp\;</li>\n	<li>hors d&rsquo\;oeuvres (hot and cold)</li>\n	<li>You will receive Funny Money to Play -&nbsp\;Poker\, Roulette Black Jack and Craps&nbsp\;</li>\n	<li>Caricature Artist (complimentary)</li>\n	<li>Photo Booth with Props (complimentary)</li>\n	<li>Jazz Music</li>\n	<li>Ice Breaker Game with Prize (participation is optional)</li>\n</ul>\n<em>In addition to above\;</em>\n\n<ul>\n	<li>&ldquo\;Bootleggers&rdquo\; Wine Wall (over 75 bottles of wine from $12-$75)</li>\n	<li>Over 60&nbsp\;Silent Auctions to Bid on</li>\n	<li>Basket Raffle Table</li>\n	<li>5 Live Auction Items!</li>\n</ul>\n<strong>Remember while dressing the theme may be encouraged it is only required for the Swankiest Costume Contest!&nbsp\; &nbsp\; &nbsp\;&nbsp\;</strong><br />\n<br />\nWe are building our Silent Auction Items. A variety of items Overnights\, Tickets to Sport&rsquo\;s Events or Concerts\, Gift Certificate\, Gift Basket\, Services... Sneak Peak will be circulated a week before the event!<br />\n<br />\nOur Sponsors to Date:<br />\n<br />\n<span style="font-size:18px\;"><span style="font-family:arial\;"><span style="font-size:12px\;"><strong>COTTON CLUB PARTNER:</strong></span><br />\n<span style="font-size:22px\;">Deutsche Bank Championship<br />\nMansfield Bank</span><br />\n&nbsp\;<br />\n<span style="font-size:12px\;"><strong>BOOTLEGGERS WALL: &nbsp\;<span style="font-size:20px\;">&nbsp\;</span></strong></span><span style="font-size:20px\;">Horizon Beverage</span><br />\n&nbsp\;<br />\n<span style="font-size:12px\;"><strong>BABE RUTH:&nbsp\;&nbsp\;</strong></span><br />\n<span style="font-size:20px\;">Barrows Insurance Agency</span><br />\n<span style="font-size:20px\;">Mansfield Crossing</span><br />\n<span style="font-size:20px\;">North Easton Savings Bank</span><br />\n<span style="font-size:20px\;">Patriot Place</span><br />\n<span style="font-size:20px\;">Xfinity Center</span><br />\n<br />\n<span style="font-size:12px\;"><strong>FLAPPER &amp\; WING TIP PARTNER:&nbsp\;</strong></span><br />\nESP Solutions<br />\nHockomock Area YMCA<br />\nMGA Links\, Norton<br />\n<br />\n<span style="font-size:12px\;"><strong>SILENT MOVIE PARTNER:&nbsp\;</strong></span><br />\n<span style="font-size:16px\;">Betro &amp\; Company\, Foxborough<br />\n&#8203\;Old Station Outdoor &amp\; Landscape Supply</span></span></span>
LOCATION:Showcase Live Patriot Place\, Foxboro
UID:e.1730.1263
SEQUENCE:3
DTSTAMP:20260420T050209Z
URL:https://www.tri-townchamber.org/events/details/chamber-s-annual-auction-roaring-20-s-theme-03-27-2015-1263
END:VEVENT

END:VCALENDAR
