BEGIN:VCALENDAR
VERSION:2.0
PRODID:-//ChamberMaster//Event Calendar 2.0//EN
METHOD:PUBLISH
X-PUBLISHED-TTL:P3D
REFRESH-INTERVAL:P3D
CALSCALE:GREGORIAN
BEGIN:VEVENT
DTSTART;VALUE=DATE:20141127
DTEND;VALUE=DATE:20141128
TRANSP:TRANSPARENT
X-MICROSOFT-CDO-ALLDAYEVENT:TRUE
SUMMARY:Chamber closed - Happy Thanksgiving
DESCRIPTION:Have a Safe Holiday
X-ALT-DESC;FMTTYPE=text/html:Have a Safe Holiday
LOCATION:
UID:e.1730.1077
SEQUENCE:3
DTSTAMP:20260420T133346Z
URL:https://www.tri-townchamber.org/events/details/chamber-closed-happy-thanksgiving-11-27-2014-1077
END:VEVENT

END:VCALENDAR
