BEGIN:VCALENDAR
VERSION:2.0
PRODID:-//ChamberMaster//Event Calendar 2.0//EN
METHOD:PUBLISH
X-PUBLISHED-TTL:P3D
REFRESH-INTERVAL:P3D
CALSCALE:GREGORIAN
BEGIN:VEVENT
DTSTART:20140801T163000Z
DTEND:20140801T170000Z
X-MICROSOFT-CDO-ALLDAYEVENT:FALSE
SUMMARY:Celebrate Local Business with a Ribbon Cutting at Tiger-Crane Kung Fu in Mansfield
DESCRIPTION:Please Join the Tri-Town Chamber of Commerce in welcoming Tiger-Crane Kung Fu to Mansfield\, in celebration of this Local Business we invite you to a Ribbon Cutting ceremony on Friday August 1 at 12:30\n\n \nTiger-Crane Kung Fu is the newest school which teaches Grandmaster Winchell P.C. Woo's style of Kung Fu.  It is a system of Kung Fu based on the 5 animals and 5 elements of traditional Hung Gar.  It is a complete system because it contains both hard and soft\, external and internal\, yang and yin. \n\n \n\nGrandmaster Woo has used his more than 60 years of Kung Fu experience to create 5 Elements Tai Chi.  He is the direct descendant from a lineage of masters from the Shaolin Temple of Southern China.\n\n \n\nIt has been said that\, "Everything is Tai Chi." The major difference between 5 Elements Tai Chi and other Tai Chi styles is the combination of healthy relaxing Qi Gong (Chi Kung) with practical applications for self-defense.\n\n \n\nEveryone benefits\, regardless of age!\n\nfor more information on Tiger Crane Kung Fu go to:\n\nhttp://www.tiger-crane.com/
X-ALT-DESC;FMTTYPE=text/html:Please Join the Tri-Town Chamber of Commerce in welcoming Tiger-Crane Kung Fu to Mansfield\, in celebration of this Local Business we invite you to a Ribbon Cutting ceremony on Friday August 1 at 12:30<br />\n&nbsp\;\n<div style="margin-left: 40px\;"><em>Tiger-Crane Kung Fu is the newest school which teaches Grandmaster Winchell P.C. Woo&#39\;s style of Kung Fu.&nbsp\; It is a system of Kung Fu based on the 5 animals and 5 elements of traditional Hung Gar.&nbsp\; It is a complete system because it contains both hard and soft\, external and internal\, yang and yin.&nbsp\;<br />\n&nbsp\;<br />\nGrandmaster Woo has used his more than 60 years of Kung Fu experience to create 5 Elements Tai Chi.&nbsp\; He is the direct descendant from a lineage of masters from the Shaolin Temple of Southern China.<br />\n&nbsp\;<br />\nIt has been said that\, &ldquo\;Everything is Tai Chi.&rdquo\; The major difference between 5 Elements Tai Chi and other Tai Chi styles is the combination of healthy relaxing Qi Gong (Chi Kung) with practical applications for self-defense.<br />\n&nbsp\;<br />\nEveryone benefits\, regardless of age!<br />\nfor more information on Tiger Crane Kung Fu go to:<br />\nhttp://www.tiger-crane.com/</em></div>\n
LOCATION:86 Copeland Drive in Mansfield
UID:e.1730.1030
SEQUENCE:3
DTSTAMP:20260420T182816Z
URL:https://www.tri-townchamber.org/events/details/celebrate-local-business-with-a-ribbon-cutting-at-tiger-crane-kung-fu-in-mansfield-08-01-2014-1030
END:VEVENT

END:VCALENDAR
