BEGIN:VCALENDAR
VERSION:2.0
PRODID:-//ChamberMaster//Event Calendar 2.0//EN
METHOD:PUBLISH
X-PUBLISHED-TTL:P3D
REFRESH-INTERVAL:P3D
CALSCALE:GREGORIAN
BEGIN:VEVENT
DTSTART:20140606T160000Z
DTEND:20140606T170000Z
X-MICROSOFT-CDO-ALLDAYEVENT:FALSE
SUMMARY:Celebrate Local Business with a Ribbon Cutting at Menchies Frozen Yogurt
DESCRIPTION:Please Join the Tri-Town Chamber of Commerce in welcoming Menchie's Frozen Yogurt  to Mansfield\, in celebration of this Local Business we invite you to a Ribbon Cutting ceremony on Friday June 6 at 12:00\n\n\n\nMenchie's world\n\nMenchie started mixing when he was only a baby. It quickly became his passion and led him to do what he loves and love what he does: making mixes of yogurt and toppings with his sweet friends\n\nTogether\, the Sweet Friends represent the United Flavors of Yumm (UFY) and travel the world in the pursuit of yumminess with one mission in mind: to spread the yumm with smiles. In the UFY\, any mix possible and all mixes are created equal.\n\nNow\, be a Sweet Friend and carpe yumm! Grab a cup\, enjoy the sweet ride!
X-ALT-DESC;FMTTYPE=text/html:Please Join the Tri-Town Chamber of Commerce in welcoming Menchie&rsquo\;s Frozen Yogurt &nbsp\;to Mansfield\, in celebration of this Local Business we invite you to a Ribbon Cutting ceremony on Friday June 6 at 12:00<br />\n<br />\n<strong>Menchie&#39\;s</strong><strong> world</strong><br />\n<em>Menchie started mixing when he was only a baby. It quickly became his passion and led him to do what he loves and love what he does: making mixes of yogurt and toppings with his sweet friends<br />\nTogether\, the Sweet Friends represent the United Flavors of Yumm (UFY) and travel the world in the pursuit of yumminess with one mission in mind: to spread the yumm with smiles. In the UFY\, any mix possible and all mixes are created equal.<br />\nNow\, be a Sweet Friend and carpe yumm! Grab a cup\, enjoy the sweet ride!</em>
LOCATION:Mansfield Crossing at 280 School Street in Mansfield
UID:e.1730.1018
SEQUENCE:3
DTSTAMP:20260420T202124Z
URL:https://www.tri-townchamber.org/events/details/celebrate-local-business-with-a-ribbon-cutting-at-menchies-frozen-yogurt-06-06-2014-1018
END:VEVENT

END:VCALENDAR
