BEGIN:VCALENDAR
VERSION:2.0
PRODID:-//ChamberMaster//Event Calendar 2.0//EN
METHOD:PUBLISH
X-PUBLISHED-TTL:P3D
REFRESH-INTERVAL:P3D
CALSCALE:GREGORIAN
BEGIN:VEVENT
DTSTART:20150610T160000Z
DTEND:20150610T170000Z
X-MICROSOFT-CDO-ALLDAYEVENT:FALSE
SUMMARY:Celebrate Local Business with a Ribbon Cutting at Mangia Neapolitan Pizzeria in Norton
DESCRIPTION:Please Join the Tri-Town Chamber of Commerce in welcoming Mangia Neapolitan Pizzeria in Norton\, in celebration of this Local Business we invite you to a Ribbon Cutting ceremony on Wednesday June 10th at 12:00\n\n \nAbout Mangia Neapoltan pizzeria:  \nThe Mangia Pizza experience was founded in 2003 with the opening of our first restaurant in Brookline\, Massachusetts\, ignited by the mission to revolutionize the way people think about\, buy and enjoy their pizza.\n\nWith an unwavering focus and commitment to healthy eating and pure deliciousness\, the secret to Mangia's success is our award-winning\, whole- wheat pizza dough\, milled to exacting specifications. The result is a silky\, whole-wheat pizza crust that Mangia's patrons describe as "heavenly\," and serves as the perfect foundation for a variety of custom-crafted pies that feature only the freshest meat and vegetable toppings\, all-natural\, delectable sauces\, and 100% natural mozzarella cheese with no binders or anti-caking agents.
X-ALT-DESC;FMTTYPE=text/html:Please Join the Tri-Town Chamber of Commerce in welcoming Mangia Neapolitan Pizzeria in Norton\, in celebration of this Local Business we invite you to a Ribbon Cutting ceremony on Wednesday June 10th at 12:00<br />\n&nbsp\;\n<div style="margin-left: 40px\;">About Mangia&nbsp\;Neapoltan pizzeria: &nbsp\;\n<p style="font-weight: bold\; margin: 0px 0px 1.714285714rem\; padding: 0px\; border: 0px\; font-size: 14px\; vertical-align: baseline\; line-height: 24px\; color: rgb(68\, 68\, 68)\; font-family: 'Open Sans'\, Helvetica\, Arial\, sans-serif\; background-color: rgb(230\, 230\, 230)\;">The Mangia Pizza experience was founded in 2003 with the opening of our first restaurant in Brookline\, Massachusetts\, ignited by the mission to revolutionize the way people think about\, buy and enjoy their pizza.</p>\n\n<p style="font-weight: bold\; margin: 0px 0px 1.714285714rem\; padding: 0px\; border: 0px\; font-size: 14px\; vertical-align: baseline\; line-height: 24px\; color: rgb(68\, 68\, 68)\; font-family: 'Open Sans'\, Helvetica\, Arial\, sans-serif\; background-color: rgb(230\, 230\, 230)\;">With an unwavering focus and commitment to healthy eating and pure deliciousness\, the secret to Mangia&rsquo\;s success is our award-winning\, whole- wheat pizza dough\, milled to exacting specifications. The result is a silky\, whole-wheat pizza crust that Mangia&rsquo\;s patrons&nbsp\;describe as &ldquo\;heavenly\,&rdquo\; and serves as the perfect foundation for a variety of custom-crafted pies that feature only the freshest meat and vegetable toppings\, all-natural\, delectable sauces\, and 100% natural mozzarella cheese with no binders or anti-caking agents.</p>\n</div>\n
LOCATION:288 East Main Street Norton
UID:e.1730.1645
SEQUENCE:3
DTSTAMP:20260420T001034Z
URL:https://www.tri-townchamber.org/events/details/celebrate-local-business-with-a-ribbon-cutting-at-mangia-neapolitan-pizzeria-in-norton-06-10-2015-1645
END:VEVENT

END:VCALENDAR
