BEGIN:VCALENDAR
VERSION:2.0
PRODID:-//ChamberMaster//Event Calendar 2.0//EN
METHOD:PUBLISH
X-PUBLISHED-TTL:P3D
REFRESH-INTERVAL:P3D
CALSCALE:GREGORIAN
BEGIN:VEVENT
DTSTART:20140828T200000Z
DTEND:20140828T210000Z
X-MICROSOFT-CDO-ALLDAYEVENT:FALSE
SUMMARY:Celebrate Local Business - Ribbon Cutting at Splitsville Luxury Lanes
DESCRIPTION:Please Join the Tri-Town Chamber of Commerce in welcoming Splitsville  to Patriot Place in Foxboro\, in celebration of this Local Business we invite you to a Ribbon Cutting ceremony on Thursday\, August 28th at 4:30pm\n\n\n\nThen be sure to Join us for the Business After Hours event immediately following
X-ALT-DESC;FMTTYPE=text/html:Please Join the Tri-Town Chamber of Commerce in welcoming Splitsville &nbsp\;to Patriot Place in Foxboro\, in celebration of this Local Business we invite you to a Ribbon Cutting ceremony on Thursday\, August 28th at 4:30pm<br />\n<br />\n<span style="font-size: 14px\; line-height: 22.399999618530273px\;"><b><i>Then be sure to Join us for the Business After Hours event immediately following</i></b></span>
LOCATION:Patriot Place
UID:e.1730.1036
SEQUENCE:3
DTSTAMP:20260420T165326Z
URL:https://www.tri-townchamber.org/events/details/celebrate-local-business-ribbon-cutting-at-splitsville-luxury-lanes-08-28-2014-1036
END:VEVENT

END:VCALENDAR
