BEGIN:VCALENDAR
VERSION:2.0
PRODID:-//ChamberMaster//Event Calendar 2.0//EN
METHOD:PUBLISH
X-PUBLISHED-TTL:P3D
REFRESH-INTERVAL:P3D
CALSCALE:GREGORIAN
BEGIN:VEVENT
DTSTART:20140627T150000Z
DTEND:20140627T160000Z
X-MICROSOFT-CDO-ALLDAYEVENT:FALSE
SUMMARY:Celebrate Local Business - Ribbon Cutting at Orange Leaf Yogurt
DESCRIPTION:Please Join the Tri-Town Chamber of Commerce in welcoming Orange Leaf Frozen Yogurt  to Foxboro\, in celebration of this Local Business we invite you to a Ribbon Cutting ceremony on Friday\, June 27 at 11:00am\n\n\n\nALL ABOUT ORANGE LEAF\n\nWe are: the ultimate dessert experience\n\nWe're a self-serve\, choose-your-own toppings frozen treat destination unlike any other.\n\nWe are: on a mission\n\nWe work hard to make the best froyo you've ever tasted and are committed to becoming a valuable partner in your community.\n\nWe are: better than the rest\n\nOur customers prefer us because of our awesome froyo\, fun people and cool spoons
X-ALT-DESC;FMTTYPE=text/html:Please Join the Tri-Town Chamber of Commerce in welcoming Orange Leaf Frozen Yogurt &nbsp\;to Foxboro\, in celebration of this Local Business we invite you to a Ribbon Cutting ceremony on Friday\, June 27 at 11:00am<br />\n<br />\n<em><span style="font-size:14px\;"><strong>ALL ABOUT ORANGE LEAF</strong></span><br />\n<strong>We are: the ultimate dessert experience</strong><br />\nWe&#39\;re a self-serve\, choose-your-own toppings frozen treat destination unlike any other.<br />\n<strong>We are: on a mission</strong><br />\nWe work hard to make the best froyo you&#39\;ve ever tasted and are committed to becoming a valuable partner in your community.<br />\n<strong>We are: better than the rest</strong><br />\n<span style="font-family:calibri\,sans-serif\;"><span style="font-size:11.0pt\;">Our customers prefer us because of our awesome froyo\, fun people and cool spoons</span></span></em><br />\n&nbsp\;
LOCATION:211 North Street\, Unit #4 Foxboro\, MA
UID:e.1730.1029
SEQUENCE:3
DTSTAMP:20260420T222627Z
URL:https://www.tri-townchamber.org/events/details/celebrate-local-business-ribbon-cutting-at-orange-leaf-yogurt-06-27-2014-1029
END:VEVENT

END:VCALENDAR
