BEGIN:VCALENDAR
VERSION:2.0
PRODID:-//ChamberMaster//Event Calendar 2.0//EN
METHOD:PUBLISH
X-PUBLISHED-TTL:P3D
REFRESH-INTERVAL:P3D
CALSCALE:GREGORIAN
BEGIN:VEVENT
DTSTART:20140814T040000Z
DTEND:20140814T170000Z
X-MICROSOFT-CDO-ALLDAYEVENT:FALSE
SUMMARY:Celebrate Local Business - Ribbon Cutting at Mansfield Redemption Center
DESCRIPTION:Please Join the Tri-Town Chamber of Commerce in welcoming Mansfield Redemption Center\, in celebration of this Local Business we invite you to a Ribbon Cutting ceremony on Thursday\, August 14 at 12:00\nThe Mansfield Redemption Center opened in January....\n\n \n\nMission Statement\n\nIt is the mission of Attleboro Enterprises\, Incorporated to support adults with cognitive and physical challenges by promoting opportunities for them to become contributing member of society and to achieve their life goals.\n\nSupporting Citizens Who Serve Their Communities\n\nAttleboro Enterprises\, Inc. (AEI) is a non-profit human service organization that supports over 200 adults with diverse developmental challenges through four program areas\; residential\, employment\, community based day supports and day habilitation services.\n\nAEI operates eight residences in southeastern Massachusetts.\n\nEmployment training and job placement programs offer on-site employment opportunities at the North Attleboro site as well as job placement in the community.\n\nCBDS offers participants the opportunity to volunteer in the community and develop skills in vocational\, social and recreational settings.\n\nDay Habilitation provides clinical\, therapeutic supports and developmental skills education.\n\nAEI's programs aim to empower individuals to become contributing members of society\, build positive self-esteem\, and enable them to achieve individual life goals.  AEI's three-year accreditation by CARF ensures the gold standard of industry excellence to its participants.
X-ALT-DESC;FMTTYPE=text/html:Please Join the Tri-Town Chamber of Commerce in welcoming Mansfield Redemption Center\, in celebration of this Local Business we invite you to a Ribbon Cutting ceremony on Thursday\, August 14 at 12:00\n<div style="margin-left: 40px\;">The Mansfield&nbsp\;Redemption Center&nbsp\;opened in January....<br />\n&nbsp\;<br />\n<strong>Mission Statement</strong><br />\nIt is the mission of Attleboro Enterprises\, Incorporated to support adults with cognitive and physical challenges by promoting opportunities for them to become contributing member of society and to achieve their life goals.<br />\n<strong>Supporting Citizens Who Serve Their Communities</strong><br />\nAttleboro Enterprises\, Inc. (AEI) is a non-profit human service organization that supports over 200 adults with diverse developmental challenges through four program areas\; residential\, employment\, community based day supports and day habilitation services.<br />\nAEI operates eight residences in southeastern Massachusetts.<br />\nEmployment training and job placement programs offer on-site employment opportunities at the North Attleboro site as well as job placement in the community.<br />\nCBDS offers participants the opportunity to volunteer in the community and develop skills in vocational\, social and recreational settings.<br />\nDay Habilitation provides clinical\, therapeutic supports and developmental skills education.<br />\nAEI&rsquo\;s programs aim to empower individuals to become contributing members of society\, build positive self-esteem\, and enable them to achieve individual life goals.&nbsp\; AEI&rsquo\;s three-year accreditation by CARF ensures the gold standard of industry excellence to its participants.<br />\n&nbsp\;</div>\n
LOCATION:75 Forbes Boulevard\, Mansfield
UID:e.1730.1037
SEQUENCE:3
DTSTAMP:20260420T182819Z
URL:https://www.tri-townchamber.org/events/details/celebrate-local-business-ribbon-cutting-at-mansfield-redemption-center-08-14-2014-1037
END:VEVENT

END:VCALENDAR
