BEGIN:VCALENDAR
VERSION:2.0
PRODID:-//ChamberMaster//Event Calendar 2.0//EN
METHOD:PUBLISH
X-PUBLISHED-TTL:P3D
REFRESH-INTERVAL:P3D
CALSCALE:GREGORIAN
BEGIN:VEVENT
DTSTART:20151202T210000Z
DTEND:20151202T220000Z
X-MICROSOFT-CDO-ALLDAYEVENT:FALSE
SUMMARY:Celebrate Local Business LAER Realty Partners
DESCRIPTION:Please Join the Tri-Town Chamber of Commerce in celebrating LAER Realty Partners new location in Mansfield\, in celebration of this Local Business we invite you to a Ribbon Cutting ceremony on Wednesday Dec 2nd at 4:00pm.\n\n\n\nLAER Realty Partners was founded in 2000 with one office in Tyngsboro\, MA and has grown to twenty two offices in Massachusetts including Cape Cod and Martha's Vineyard with more than 360 of the best Agent Partners within the first class organization.  They are one of the largest real estate firms in Massachusetts. LAER stands for Local Agents\, Extraordinary Results.
X-ALT-DESC;FMTTYPE=text/html:<span style="color:dimgray\;"><span style="font-family:arial\,sans-serif\;"><span style="font-size:11.0pt\;">Please Join the Tri-Town Chamber of Commerce in celebrating&nbsp\;<strong>LAER Realty Partners new location in Mansfield</strong>\, in celebration of this Local Business we invite you to a Ribbon Cutting ceremony on Wednesday Dec 2<sup>nd</sup> at 4:00pm.</span></span></span><br />\n<br />\nLAER Realty Partners was founded in 2000 with one office in Tyngsboro\, MA and has grown to twenty two offices in Massachusetts including Cape Cod and Martha&rsquo\;s Vineyard with more than 360 of the best Agent Partners within the first class organization.&nbsp\; They are one of the largest real estate firms in Massachusetts. LAER stands for Local Agents\, Extraordinary Results.&nbsp\; &nbsp\;<br />\n&nbsp\;
LOCATION:2 South Main Unit B101 Mansfield MA (located on the corner of Main Street and West Street)
UID:e.1730.1846
SEQUENCE:3
DTSTAMP:20260419T142027Z
URL:https://www.tri-townchamber.org/events/details/celebrate-local-business-laer-realty-partners-12-02-2015-1846
END:VEVENT

END:VCALENDAR
