BEGIN:VCALENDAR
VERSION:2.0
PRODID:-//ChamberMaster//Event Calendar 2.0//EN
METHOD:PUBLISH
X-PUBLISHED-TTL:P3D
REFRESH-INTERVAL:P3D
CALSCALE:GREGORIAN
BEGIN:VEVENT
DTSTART:20141210T213000Z
DTEND:20141210T220000Z
X-MICROSOFT-CDO-ALLDAYEVENT:FALSE
SUMMARY:Celebrate Local Business - Hilliards Chocolate
DESCRIPTION:Please Join the Tri-Town Chamber of Commerce in welcoming Hilliards Chocoalte to their new location in Mansfield\, in celebration of their opening we invite you to a Ribbon Cutting ceremony on Wednesday\, December 10 at 4:30\n\n \n\nAbout Hilliards Chocolates: \n\nA chocolate business built on generations of tradition...\n\nHilliards' Chocolates   a leading maker of fine chocolates and specialty candies   is a family owned business in its fourth generation.\n\nIn the early 1900s\, Perley and Jessie Hilliard\, husband and wife\, were introduced to the business of andy through Jessie's father\, Marcellus Parker\, who owned a candy store in the Boston suburb of Haverhill. Yet it wouldn't be until 1919\, when Perley Hilliard took a job making candy in the Priscilla Sears factory in the Boston neighborhood of Hyde Park that a Hilliard would begin to learn first-hand\, and hands-on\, the craft of making fine chocolate and other sweets.\n\nREAD MORE  http://www.hilliardscandy.com/about-our-company.html
X-ALT-DESC;FMTTYPE=text/html:Please Join the Tri-Town Chamber of Commerce in welcoming Hilliards Chocoalte&nbsp\;to their new location in Mansfield\, in celebration of their opening we invite you to a&nbsp\;Ribbon Cutting ceremony on Wednesday\, December 10 at 4:30<br />\n&nbsp\;<br />\n<em><strong>About Hilliards Chocolates:&nbsp\;</strong></em><br />\nA chocolate business built on generations of tradition...<br />\nHilliards&rsquo\; Chocolates &ndash\; a leading maker of fine chocolates and specialty candies &ndash\; is a family owned business in its fourth generation.<br />\nIn the early 1900s\, Perley and Jessie Hilliard\, husband and wife\, were introduced to the business of andy through Jessie&rsquo\;s father\, Marcellus Parker\, who owned a candy store in the Boston suburb of Haverhill. Yet it wouldn&rsquo\;t be until 1919\, when Perley Hilliard took a job making candy in the Priscilla Sears factory in the Boston neighborhood of Hyde Park that a Hilliard would begin to learn first-hand\, and hands-on\, the craft of making fine chocolate and other sweets.<br />\nREAD MORE&nbsp\; <a href="http://www.hilliardscandy.com/about-our-company.html">http://www.hilliardscandy.com/about-our-company.html</a>
LOCATION:321 School Street\, Mansfield
UID:e.1730.1239
SEQUENCE:3
DTSTAMP:20260420T113646Z
URL:https://www.tri-townchamber.org/events/details/celebrate-local-business-hilliards-chocolate-12-10-2014-1239
END:VEVENT

END:VCALENDAR
