BEGIN:VCALENDAR
VERSION:2.0
PRODID:-//ChamberMaster//Event Calendar 2.0//EN
METHOD:PUBLISH
X-PUBLISHED-TTL:P3D
REFRESH-INTERVAL:P3D
CALSCALE:GREGORIAN
BEGIN:VEVENT
DTSTART:20141105T213000Z
DTEND:20141105T223000Z
X-MICROSOFT-CDO-ALLDAYEVENT:FALSE
SUMMARY:Celebrate Local Business - Hannon Electric\, Inc.
DESCRIPTION:Please Join the Tri-Town Chamber of Commerce in celebrating Hannon Electric beautiful new Location\, in celebration of this Local Business we invite you to a Ribbon Cutting ceremony on Wednesday\, November 5th at 4:30\n\n\n\nALL ABOUT HANNON ELECTRIC\, INC\n\nHannon Electric\, Inc. is a full-service electrical contractor serving New England and the East Coast. Our Service and Construction team has over 100 years of combined electrical experience in all phases of the industry. Our design-build experience integrates the "Going Green" building and energy conservation requirements. At Hannon Electric we stand by our work with a one year guarantee and provide 24 hour service for all of your emergency needs. We're on time\, on budget and we make CUSTOMER SATISFACTION our #1 PRIORITY.  Visit us on Facebook for company updates as they happen.
X-ALT-DESC;FMTTYPE=text/html:Please Join the Tri-Town Chamber of Commerce in celebrating Hannon Electric beautiful new Location\, in celebration of this Local Business we invite you to a Ribbon Cutting ceremony on Wednesday\, November 5th at 4:30<br />\n<br />\n<em><span style="font-size:14px\;"><strong>ALL ABOUT HANNON ELECTRIC\, INC</strong></span></em><br />\nHannon Electric\, Inc. is a full-service electrical contractor serving New England and the East Coast. Our Service and Construction team has over 100 years of combined electrical experience in all phases of the industry. Our design-build experience integrates the &ldquo\;Going Green&rdquo\; building and energy conservation requirements. At Hannon Electric we stand by our work with a one year guarantee and provide 24 hour service for all of your emergency needs. We&rsquo\;re on time\, on budget and we make CUSTOMER SATISFACTION our #1 PRIORITY.&nbsp\; Visit us on Facebook for company updates as they happen.<br />\n<br />\n&nbsp\;
LOCATION:Hannon Electric 117 Eastman St\, South Easton MA 02375
UID:e.1730.1081
SEQUENCE:3
DTSTAMP:20260420T113743Z
URL:https://www.tri-townchamber.org/events/details/celebrate-local-business-hannon-electric-inc-11-05-2014-1081
END:VEVENT

END:VCALENDAR
