BEGIN:VCALENDAR
VERSION:2.0
PRODID:-//ChamberMaster//Event Calendar 2.0//EN
METHOD:PUBLISH
X-PUBLISHED-TTL:P3D
REFRESH-INTERVAL:P3D
CALSCALE:GREGORIAN
BEGIN:VEVENT
DTSTART:20141024T120000Z
DTEND:20141024T130000Z
X-MICROSOFT-CDO-ALLDAYEVENT:FALSE
SUMMARY:Celebrate Local Business - Foley & Foley New Location
DESCRIPTION:Open House and Ribbon Cutting for Foley & Foley new Office in Mansfield\n\nPlease Join the Tri-Town Chamber of Commerce in welcoming Foley & Foley to their new location in the Tri-Town Chamber of Commerce Building in Mansfield\, in celebration of their opening we invite you to an Open House and Ribbon Cutting ceremony on Friday October 24 at 8:00am\,\n\nEnjoy Refreshments and Networking\n\n \n\nAbout: Foley & Foley\n\nTim Kenneally's legal practice at Foley & Foley\, PC is focused on a few specific areas: employment\, labor\, contract and insurance matters\, business law and civil litigation. Attorney Kenneally principally represents business owners in the defense of civil litigation\, arbitrations and administrative proceedings. Attorney Kenneally also helps his clients set up their businesses\, obtain proper insurance and enforce their contracts.
X-ALT-DESC;FMTTYPE=text/html:<strong>Open House and Ribbon Cutting for Foley &amp\; Foley new Office in Mansfield</strong><br />\nPlease Join the Tri-Town Chamber of Commerce in welcoming Foley &amp\; Foley to their new location in the Tri-Town Chamber of Commerce Building in Mansfield\, in celebration of their opening we invite you to an Open House and Ribbon Cutting ceremony on Friday October 24 at 8:00am\,<br />\nEnjoy Refreshments and Networking<br />\n&nbsp\;<br />\n<em><strong>About: Foley &amp\; Foley</strong><br />\nTim Kenneally&rsquo\;s legal practice at Foley &amp\; Foley\, PC is focused on a few specific areas: employment\, labor\, contract and insurance matters\, business law and civil litigation. Attorney Kenneally principally represents business owners in the defense of civil litigation\, arbitrations and administrative proceedings. Attorney Kenneally also helps his clients set up their businesses\, obtain proper insurance and enforce their contracts.</em>
LOCATION:280 School Street\, Suite 204 Tri-Town Chamber of Commerce Building
UID:e.1730.1070
SEQUENCE:3
DTSTAMP:20260420T133450Z
URL:https://www.tri-townchamber.org/events/details/celebrate-local-business-foley-foley-new-location-10-24-2014-1070
END:VEVENT

END:VCALENDAR
