BEGIN:VCALENDAR
VERSION:2.0
PRODID:-//ChamberMaster//Event Calendar 2.0//EN
METHOD:PUBLISH
X-PUBLISHED-TTL:P3D
REFRESH-INTERVAL:P3D
CALSCALE:GREGORIAN
BEGIN:VEVENT
DTSTART:20151211T163000Z
DTEND:20151211T173000Z
X-MICROSOFT-CDO-ALLDAYEVENT:FALSE
SUMMARY:Celebrate Local Business B.GOOD restaurant
DESCRIPTION:Please Join the Tri-Town Chamber of Commerce in celebrating B.good in Mansfield\, in celebration of this Local Business we invite you to a Ribbon Cutting ceremony on Friday\, December 11th at 11:30am. There will be an official Photo a well as samplings of some of B.good food.\n\n\n\nB.good is excited to have opened its newest restaurant at Mansfield Crossing. The quick service restaurant has been serving locally-raised\, house-ground burgers\, hand-cut fries and sweet potato fries\, all-natural shakes and smoothies\, fresh salads and kale and grain bowls since 2004. B.good strives to serve Real Food Fast by using locally sourced\, all-natural ingredients. B.good serves real food made by people\, not factories.\n\n \n\nSPECIAL OFFER: B.good at Mansfield Crossing invites Tri-Town Chamber members to show this e-mail and receive a free burger\, kale and grain bowl or seasonal salad when purchasing a sandwich\, kale and grain bowl or salad. This special offer for Chamber members and their employees is good until December 24th and is not valid with any other discounts or special offers. We look forward to serving you b.good Real Food in Mansfield soon!\n\n \n\n________\n\n\n\nB.good is also hosting  a Grand Opening Community Celebration on Saturday\, December 12th from 12:00 PM   5:00 PM.  B.good prides itself on being an active member of the community and will be donating 20% of all sales during the Grand Opening timeframe to the Mansfield Soup Kitchen. There will also be live music\, free games\, prizes and free samples from their "Harvey" milkshake truck.
X-ALT-DESC;FMTTYPE=text/html:<span style="font-size:16px\;"><span style="font-family:arial\,sans-serif\;">Please Join the Tri-Town Chamber of Commerce in celebrating <strong>B.good<strong>&nbsp\;</strong>in Mansfield</strong>\, in celebration of this Local Business we invite you to a<strong> Ribbon Cutting </strong>ceremony on Friday\, December 11th at 11:30am. There will be an official Photo a well as samplings of some of B.good food.</span><br />\n<br />\n<em>B.good is excited to have opened its newest restaurant at Mansfield Crossing.&nbsp\;The quick service restaurant has been serving locally-raised\, house-ground burgers\, hand-cut fries and sweet potato fries\, all-natural shakes and smoothies\, fresh salads and kale and grain bowls since 2004. B.good strives to serve Real Food Fast by using locally sourced\, all-natural ingredients. B.good serves real food made by people\, not factories.</em><br />\n&nbsp\;<br />\n<u><strong>SPECIAL OFFER:</strong></u>&nbsp\;B.good at Mansfield Crossing invites Tri-Town Chamber members to show this e-mail and receive a free burger\, kale and grain bowl or seasonal salad when purchasing a sandwich\, kale and grain bowl or salad. This special offer for Chamber members and their employees is good until December 24th and is not valid with any other discounts or special offers. We look forward to serving you b.good Real Food in Mansfield soon!<br />\n&nbsp\;<br />\n________<br />\n<br />\nB.good is also hosting&nbsp\; a Grand Opening Community Celebration on Saturday\, December 12th from 12:00 PM &ndash\; 5:00 PM. &nbsp\;B.good prides itself on being an active member of the community and will be donating 20% of all sales during the Grand Opening timeframe to the Mansfield Soup Kitchen. There will also be live music\, free games\, prizes and free samples from their &ldquo\;Harvey&rdquo\; milkshake truck.<br />\n&nbsp\;</span>
LOCATION:Mansfield Crossing 280 School Street Mansfield MA
UID:e.1730.2031
SEQUENCE:3
DTSTAMP:20260419T142138Z
URL:https://www.tri-townchamber.org/events/details/celebrate-local-business-b-good-restaurant-12-11-2015-2031
END:VEVENT

END:VCALENDAR
