BEGIN:VCALENDAR
VERSION:2.0
PRODID:-//ChamberMaster//Event Calendar 2.0//EN
METHOD:PUBLISH
X-PUBLISHED-TTL:P3D
REFRESH-INTERVAL:P3D
CALSCALE:GREGORIAN
BEGIN:VEVENT
DTSTART:20150516T180000Z
DTEND:20150516T200000Z
X-MICROSOFT-CDO-ALLDAYEVENT:FALSE
SUMMARY:Capriotti's 1st anniversary celebration
DESCRIPTION:To Celebrate our first anniversary in Mansfield we will be offering our signature sandwich "The Bobbie" (Fresh roast Turkey\, Cranberry sauce\, Stuffing and Mayo) for only $1.00 from 2pm-4pm at our Mansfield location. One per person. In store orders only.
X-ALT-DESC;FMTTYPE=text/html:To Celebrate our first anniversary in Mansfield we will be offering our signature sandwich &quot\;The Bobbie&quot\; (Fresh roast Turkey\, Cranberry sauce\, Stuffing and Mayo) for only $1.00 from 2pm-4pm at our Mansfield location. One per person. In store orders only.
LOCATION:321 School St. Mansfield Ma
UID:e.1730.1648
SEQUENCE:3
DTSTAMP:20260420T032415Z
URL:https://www.tri-townchamber.org/events/details/capriotti-s-1st-anniversary-celebration-05-16-2015-1648
END:VEVENT

END:VCALENDAR
