BEGIN:VCALENDAR
VERSION:2.0
PRODID:-//ChamberMaster//Event Calendar 2.0//EN
METHOD:PUBLISH
X-PUBLISHED-TTL:P3D
REFRESH-INTERVAL:P3D
CALSCALE:GREGORIAN
BEGIN:VEVENT
DTSTART;VALUE=DATE:20130727
DTEND;VALUE=DATE:20130728
TRANSP:TRANSPARENT
X-MICROSOFT-CDO-ALLDAYEVENT:TRUE
SUMMARY:BUY LOCAL SATURDAY
DESCRIPTION:Buy Local Saturday - details will be out shortly
X-ALT-DESC;FMTTYPE=text/html:Buy Local Saturday - details will be out shortly
LOCATION:
UID:e.1730.15
SEQUENCE:3
DTSTAMP:20260421T161236Z
URL:https://www.tri-townchamber.org/events/details/buy-local-saturday-07-27-2013-15
END:VEVENT

END:VCALENDAR
