BEGIN:VCALENDAR
VERSION:2.0
PRODID:-//ChamberMaster//Event Calendar 2.0//EN
METHOD:PUBLISH
X-PUBLISHED-TTL:P3D
REFRESH-INTERVAL:P3D
CALSCALE:GREGORIAN
BEGIN:VEVENT
DTSTART:20260324T120000Z
DTEND:20260324T130000Z
X-MICROSOFT-CDO-ALLDAYEVENT:FALSE
SUMMARY:Business Owners & HR Professionals
DESCRIPTION:ROUNDTABLE DISCUSSION   BEST PRACTICES CONCERNING:\n\n1.  Diversity\, Equity\, and Inclusion (DEI)\n\n2.  Building and Sustaining Workplace Culture\n\n3.  Employee Wellness and Well-being\n\n4.  Managing a Hybrid and Multigenerational Workforce\n\n5.  AI and HR Technology Integration\n\n6.  Succession Planning and Talent Retention\n\n7.  Recruitment and Talent Acquisition in a Competitive Market\n\n8.  Leadership Development and C-Suite Engagement\n\n9.  Sustainable Work and Professional Development\n\n10. Local Legal and Compliance Updates\n\n \n\nFacilitated by Attorney Tim Kenneally\n\n \n\nPlease come prepared to share your practices and ideas with the group.\n\n** If you have a topic\, you would like covered\, please forward them along when registering.\n\n\n\n\n\n\n\nThe mission of the council is to enhance the knowledge\, resources and experience of its members in the field of human resources management through shared information\, experiences\, education and networking. \n\n\n\nCouncil sponsored by Foley & Foley\, PC\n\n\n\nMembership in the Council is open to any business in need of assistance with its human resources function\, meaning every business\, as well as to independent practitioners who work with or for businesses to assistance them with their HR function.  The representatives who attend and participate in meetings and events should have an interest in\, involvement with or responsibility for human resources.\n\n \n\nAs members of the Council\, we agree to work together to:\n\n1.  Support the Council's mission\, goals and objectives.\n\n2.  Develop an understanding of and implement the highest standards of professional conduct within our organizations and/or those of our clients.\n\n3.  Endeavor to make our organization and/or our clients successful through the support and encouragement of effective human resources practices.\n\n4.  Encourage professional development and growth in the field of human resources management.\n\n5.  Help our members to instill in their employees and employers a sense of confidence about and an understanding of the role of the human resources professional.\n\n6.  Understand all laws and regulations relating to human resources activities.
X-ALT-DESC;FMTTYPE=text/html:<div style="">\n<div style="margin-left: 0in\;">\n<div style="border: 0px\; font-variant-numeric: inherit\; font-variant-east-asian: inherit\; font-variant-alternates: inherit\; font-variant-position: inherit\; font-stretch: inherit\; font-size: 12pt\; line-height: inherit\; font-optical-sizing: inherit\; font-size-adjust: inherit\; font-kerning: inherit\; font-feature-settings: inherit\; font-variation-settings: inherit\; margin: 0px\; padding: 0px\; vertical-align: baseline\;">\n<div color:="" data-olk-copy-source="MessageBody" font-feature-settings:="" font-kerning:="" font-optical-sizing:="" font-size-adjust:="" font-variation-settings:="" helvetica="" margin:="" padding:="" segoe="" style="border: 0px\; font-variant-numeric: inherit\; font-variant-east-asian: inherit\; font-variant-alternates: inherit\; font-variant-position: inherit\; font-stretch: inherit\; font-size: 15px\; line-height: inherit\;" ui="" vertical-align:="" web="" west="">\n<div class="x_default-style" color:="" font-feature-settings:="" font-kerning:="" font-optical-sizing:="" font-size-adjust:="" font-variation-settings:="" helvetica="" margin:="" padding:="" segoe="" style="border: 0px\; font-variant-numeric: inherit\; font-variant-east-asian: inherit\; font-variant-alternates: inherit\; font-variant-position: inherit\; font-stretch: inherit\; font-size: 15px\; line-height: inherit\;" ui="" vertical-align:="" web="" west="">\n<p class="x_MsoNormal" style="margin: 0in\; font-size: 12pt\; font-family: Aptos\, sans-serif\; color: rgb(36\, 36\, 36)\;"><span style="color: rgb(105\, 105\, 105)\;"><span style="font-family: arial\;"><b>ROUNDTABLE DISCUSSION &ndash\; BEST PRACTICES CONCERNING:</b></span></span></p>\n\n<p class="x_MsoNormal" style="margin: 0in\; font-size: 12pt\; font-family: Aptos\, sans-serif\; color: rgb(36\, 36\, 36)\;"><span style="color: rgb(105\, 105\, 105)\;"><span style="font-family: arial\;">1.&nbsp\;&nbsp\;Diversity\,&nbsp\;Equity\,&nbsp\;and&nbsp\;Inclusion&nbsp\;(DEI)</span></span></p>\n\n<p class="x_MsoNormal" style="margin: 0in\; font-size: 12pt\; font-family: Aptos\, sans-serif\; color: rgb(36\, 36\, 36)\;"><span style="color: rgb(105\, 105\, 105)\;"><span style="font-family: arial\;">2.&nbsp\;&nbsp\;Building&nbsp\;and&nbsp\;Sustaining&nbsp\;Workplace&nbsp\;Culture</span></span></p>\n\n<p class="x_MsoNormal" style="margin: 0in\; font-size: 12pt\; font-family: Aptos\, sans-serif\; color: rgb(36\, 36\, 36)\;"><span style="color: rgb(105\, 105\, 105)\;"><span style="font-family: arial\;">3.&nbsp\;&nbsp\;Employee&nbsp\;Wellness&nbsp\;and&nbsp\;Well-being</span></span></p>\n\n<p class="x_MsoNormal" style="margin: 0in\; font-size: 12pt\; font-family: Aptos\, sans-serif\; color: rgb(36\, 36\, 36)\;"><span style="color: rgb(105\, 105\, 105)\;"><span style="font-family: arial\;">4.&nbsp\;&nbsp\;Managing&nbsp\;a&nbsp\;Hybrid&nbsp\;and&nbsp\;Multigenerational&nbsp\;Workforce</span></span></p>\n\n<p class="x_MsoNormal" style="margin: 0in\; font-size: 12pt\; font-family: Aptos\, sans-serif\; color: rgb(36\, 36\, 36)\;"><span style="color: rgb(105\, 105\, 105)\;"><span style="font-family: arial\;">5.&nbsp\;&nbsp\;AI&nbsp\;and&nbsp\;HR&nbsp\;Technology&nbsp\;Integration</span></span></p>\n\n<p class="x_MsoNormal" style="margin: 0in\; font-size: 12pt\; font-family: Aptos\, sans-serif\; color: rgb(36\, 36\, 36)\;"><span style="color: rgb(105\, 105\, 105)\;"><span style="font-family: arial\;">6.&nbsp\;&nbsp\;Succession&nbsp\;Planning&nbsp\;and&nbsp\;Talent&nbsp\;Retention</span></span><br />\n<span style="color: rgb(105\, 105\, 105)\;"><span style="font-family: arial\;">7.&nbsp\; Recruitment&nbsp\;and&nbsp\;Talent&nbsp\;Acquisition&nbsp\;in&nbsp\;a&nbsp\;Competitive&nbsp\;Market</span></span></p>\n\n<p class="x_MsoNormal" style="margin: 0in\; font-size: 12pt\; font-family: Aptos\, sans-serif\; color: rgb(36\, 36\, 36)\;"><span style="color: rgb(105\, 105\, 105)\;"><span style="font-family: arial\;">8.&nbsp\;&nbsp\;Leadership&nbsp\;Development&nbsp\;and&nbsp\;C-Suite&nbsp\;Engagement</span></span></p>\n\n<p class="x_MsoNormal" style="margin: 0in\; font-size: 12pt\; font-family: Aptos\, sans-serif\; color: rgb(36\, 36\, 36)\;"><span style="color: rgb(105\, 105\, 105)\;"><span style="font-family: arial\;">9.&nbsp\;&nbsp\;Sustainable&nbsp\;Work&nbsp\;and&nbsp\;Professional&nbsp\;Development</span></span></p>\n\n<p class="x_MsoNormal" style="margin: 0in\; font-size: 12pt\; font-family: Aptos\, sans-serif\; color: rgb(36\, 36\, 36)\;"><span style="color: rgb(105\, 105\, 105)\;"><span style="font-family: arial\;">10.&nbsp\;Local&nbsp\;Legal&nbsp\;and&nbsp\;Compliance&nbsp\;Updates</span></span></p>\n\n<p class="x_MsoNormal" style="margin: 0in\; font-size: 12pt\; font-family: Aptos\, sans-serif\; color: rgb(36\, 36\, 36)\;"><span style="color: rgb(105\, 105\, 105)\;"><span style="font-family: arial\;"><b>&nbsp\;</b></span></span></p>\n\n<p class="x_MsoNormal" style="margin: 0in\; font-size: 12pt\; font-family: Aptos\, sans-serif\; color: rgb(36\, 36\, 36)\;"><span style="color: rgb(105\, 105\, 105)\;"><span style="font-family: arial\;"><span style="border: 0px\; font-style: inherit\; font-variant: inherit\; font-weight: inherit\; font-stretch: inherit\; line-height: inherit\; font-optical-sizing: inherit\; font-size-adjust: inherit\; font-kerning: inherit\; font-feature-settings: inherit\; font-variation-settings: inherit\; font-language-override: inherit\; margin: 0px\; padding: 0px\; vertical-align: baseline\;">Facilitated by<b>&nbsp\;Attorney Tim Kenneally</b></span></span></span></p>\n\n<p class="x_MsoNormal" style="margin: 0in\; font-size: 12pt\; font-family: Aptos\, sans-serif\; color: rgb(36\, 36\, 36)\;"><span style="color: rgb(105\, 105\, 105)\;"><span style="font-family: arial\;"><b>&nbsp\;</b></span></span></p>\n\n<p class="x_MsoNormal" style="margin: 0in\; font-size: 12pt\; font-family: Aptos\, sans-serif\; color: rgb(36\, 36\, 36)\;"><span style="color: rgb(105\, 105\, 105)\;"><span style="font-family: arial\;"><b>Please come prepared to share your practices and ideas with the group.</b></span></span></p>\n\n<p class="x_MsoNormal" style="margin: 0in\; font-size: 12pt\; font-family: Aptos\, sans-serif\; color: rgb(36\, 36\, 36)\;"><span style="color:#696969\;"><span style="font-family:arial\;"><b style="color: rgb(105\, 105\, 105)\; font-family: sans-serif\, Arial\, Verdana\, " trebuchet="">** If you have a </b><span trebuchet=""><b>topic\,</b></span><b style="color: rgb(105\, 105\, 105)\; font-family: sans-serif\, Arial\, Verdana\, " trebuchet="">&nbsp\;you would like </b><font font-size:="" style="color: rgb(105\, 105\, 105)\; font-family: sans-serif\, Arial\, Verdana\, " trebuchet=""><span style="font-size: 16px\;"><b>covered\,</b></span></font><b style="color: rgb(105\, 105\, 105)\; font-family: sans-serif\, Arial\, Verdana\, " trebuchet="">&nbsp\;please forward them along when registering.</b></span></span></p>\n</div>\n</div>\n</div>\n</div>\n</div>\n<br />\n<span style="color:#696969\;"><em style="color: rgb(105\, 105\, 105)\; font-size: 16px\;"><span style="font-family:arial\;">The mission of the council is to enhance the knowledge\, resources and experience of its members in the field of human resources management through shared information\, experiences\, education and networking.&nbsp\;</span></em><br />\n<br />\n<em style="color: rgb(105\, 105\, 105)\; font-size: 16px\;">Council sponsored by Foley &amp\; Foley\, PC</em><br />\n<br />\nMembership in the Council is open to any business in need of assistance with its human resources function\, meaning every business\, as well as to independent practitioners who work with or for businesses to assistance them with their HR function.&nbsp\; The representatives who attend and participate in meetings and events should have an interest in\, involvement with or responsibility for human resources.<br />\n&nbsp\;<br />\n<em>As members of the Council\, we agree to work together to:</em><br />\n1.&nbsp\; Support the Council&rsquo\;s mission\, goals and objectives.<br />\n2.&nbsp\; Develop an understanding of and implement the highest standards of professional conduct within our organizations and/or those of our clients.<br />\n3.&nbsp\; Endeavor to make our organization and/or our clients successful through the support and encouragement of effective human resources practices.<br />\n4.&nbsp\; Encourage professional development and growth in the field of human resources management.<br />\n5.&nbsp\; Help our members to instill in their employees and employers a sense of confidence about and an understanding of the role of the human resources professional.<br />\n6.&nbsp\; Understand all laws and regulations relating to human resources activities.<br />\n&nbsp\;</span><br />\n&nbsp\;
LOCATION:Virtual - a link to the Zoom meeting will be sent once you register.
UID:e.1730.8484
SEQUENCE:3
DTSTAMP:20260419T134750Z
URL:https://www.tri-townchamber.org/events/details/business-owners-hr-professionals-8484
END:VEVENT

END:VCALENDAR
