BEGIN:VCALENDAR
VERSION:2.0
PRODID:-//ChamberMaster//Event Calendar 2.0//EN
METHOD:PUBLISH
X-PUBLISHED-TTL:P3D
REFRESH-INTERVAL:P3D
CALSCALE:GREGORIAN
BEGIN:VEVENT
DTSTART:20130710T114500Z
DTEND:20130710T130000Z
X-MICROSOFT-CDO-ALLDAYEVENT:FALSE
SUMMARY:Business Over Breakfast ~ Digital Media Project\, Donna Mac
DESCRIPTION:Donna Mac of DMac Voice & Media will take you through The Steps to managing your first digital media project. Come relax\, network and learn from a fellow Chamber Member. When learning something new\, it's always best to ask someone's who's "been there" first.  So\, we invite you to learn the steps necessary towards creating your first multi-media production. Then\, you'll be armed with the information needed to either hire a professional or do it yourself. AND you'll also be able to:  Bring your website alive\, be on YouTube\, Facebook\, etc....with your new digital media! Donna will highlight: Planning\, production and post-production.\n\n \n\nDonna Mac is the owner of DMacVoice & Media\, A Communications Company\, Live & Virtual. www:DMacVoice.com
X-ALT-DESC;FMTTYPE=text/html:<span style="font-size:12px\;"><span style="font-family: arial\;">Donna Mac of DMac Voice &amp\; Media will take you through The Steps to managing your first digital media project. Come relax\, network and learn from a fellow Chamber Member.&nbsp\;</span></span>When learning something new\, it&#39\;s always best to ask someone&#39\;s who&#39\;s &quot\;been there&quot\; first.&nbsp\; So\, we invite you to learn the steps necessary towards creating your first multi-media production. Then\, you&#39\;ll be armed with the information needed to either hire a professional or do it yourself.&nbsp\;AND you&#39\;ll also be able to:&nbsp\; Bring your website alive\, be on YouTube\, Facebook\, etc....with your new digital media!&nbsp\;Donna will highlight: Planning\, production and post-production.<br />\n&nbsp\;<br />\nDonna Mac is the owner of DMacVoice &amp\; Media\, A Communications Company\, Live &amp\; Virtual.&nbsp\;www:DMacVoice.com<br />\n
LOCATION:at the Tri-Town Chamber in the Deutsche Bank Conference Room
UID:e.1730.7
SEQUENCE:3
DTSTAMP:20260421T143730Z
URL:https://www.tri-townchamber.org/events/details/business-over-breakfast-digital-media-project-donna-mac-07-10-2013-7
END:VEVENT

END:VCALENDAR
