BEGIN:VCALENDAR
VERSION:2.0
PRODID:-//ChamberMaster//Event Calendar 2.0//EN
METHOD:PUBLISH
X-PUBLISHED-TTL:P3D
REFRESH-INTERVAL:P3D
CALSCALE:GREGORIAN
BEGIN:VEVENT
DTSTART:20130613T114500Z
DTEND:20130613T130000Z
X-MICROSOFT-CDO-ALLDAYEVENT:FALSE
SUMMARY:Business Over Breakfast: AT&T
DESCRIPTION:Great forum to meet other like minded business professionals in a great atmosphere. Come out and support local business. "HOW AT&T CAN IMPROVE YOUR BUSINESS"\n\n \n\nTopics will include:\n\n AT&T for all your business solutions\n\nTablets - how they streamline your business\n\nSmartphones - more than calling and texting\n\nDirect connect   enhanced push to talk service\n\nPronto Forms   forms customized for your business needs saving you time and money\n\nTelenav Track    a way for you to track your employees throughout the day\n\nAre you paying too much   bring your cell phone bill\, let us analyze your business needs.\n\n \n\nGuest Speakers from AT&T\, Microsoft Windows\, Samsung\, and AT&T Small Business Solutions
X-ALT-DESC;FMTTYPE=text/html:<span style="font-size:12px\;">Great forum to meet other like minded business professionals in a great atmosphere. Come out and support local business.<strong>&nbsp\;</strong></span><strong>&quot\;HOW AT&amp\;T CAN IMPROVE YOUR BUSINESS&quot\;</strong><br />\n&nbsp\;<br />\n<em>Topics will include:</em><br />\n&nbsp\;AT&amp\;T for all your business solutions<br />\nTablets - how they streamline your business<br />\nSmartphones - more than calling and texting<br />\nDirect connect &ndash\; enhanced push to talk service<br />\nPronto Forms &ndash\; forms customized for your business needs saving you time and money<br />\nTelenav Track&nbsp\; &ndash\; a way for you to track your employees throughout the day<br />\nAre you paying too much &ndash\; bring your cell phone bill\, let us analyze your business needs.<br />\n&nbsp\;<br />\nGuest Speakers from AT&amp\;T\, Microsoft Windows\, Samsung\, and AT&amp\;T Small Business Solutions<br />\n
LOCATION:287 School St.\, Bld A\, Suite 110 Mansfield\, MA 02048
UID:e.1730.4
SEQUENCE:3
DTSTAMP:20260421T161110Z
URL:https://www.tri-townchamber.org/events/details/business-over-breakfast-at-t-06-13-2013-4
END:VEVENT

END:VCALENDAR
