BEGIN:VCALENDAR
VERSION:2.0
PRODID:-//ChamberMaster//Event Calendar 2.0//EN
METHOD:PUBLISH
X-PUBLISHED-TTL:P3D
REFRESH-INTERVAL:P3D
CALSCALE:GREGORIAN
BEGIN:VEVENT
DTSTART:20150409T130000Z
DTEND:20150409T160000Z
X-MICROSOFT-CDO-ALLDAYEVENT:FALSE
SUMMARY:Business Head Shot Day at the Chamber
DESCRIPTION:Is your current business portrait reflecting you at your best?  If not\, it's time for an update!  Deb Bettencourt Photography of North Attleboro will be offering Professional Business Portraits at the Tri-Town Chamber office on Thursday\, April 9th\, beginning at 9am.  It is recommended that headshots be updated every two to four years or whenever you're appearance has changed significantly.  Your fifteen minute appointment includes multiple poses and choice of your favorite image with Basic Retouching.  You will receive finished digital image in color & b/w\, by file transfer.
X-ALT-DESC;FMTTYPE=text/html:Is your current business portrait reflecting you at your best?&nbsp\; If not\, it&#39\;s time for an update!&nbsp\; Deb Bettencourt Photography of North Attleboro will be offering Professional Business Portraits at the Tri-Town Chamber office on Thursday\, April 9th\, beginning at 9am.&nbsp\; It is recommended that headshots be updated every two to four years or whenever you&#39\;re appearance has changed significantly.&nbsp\; Your fifteen minute appointment includes multiple poses and choice of your favorite image with Basic Retouching.&nbsp\; You will receive finished digital image in color &amp\; b/w\, by file transfer.&nbsp\;&nbsp\;
LOCATION:at the Tri-Town Chamber of Commerce
UID:e.1730.1573
SEQUENCE:3
DTSTAMP:20260420T032622Z
URL:https://www.tri-townchamber.org/events/details/business-head-shot-day-at-the-chamber-04-09-2015-1573
END:VEVENT

END:VCALENDAR
