BEGIN:VCALENDAR
VERSION:2.0
PRODID:-//ChamberMaster//Event Calendar 2.0//EN
METHOD:PUBLISH
X-PUBLISHED-TTL:P3D
REFRESH-INTERVAL:P3D
CALSCALE:GREGORIAN
BEGIN:VEVENT
DTSTART:20140826T140000Z
DTEND:20140826T170000Z
X-MICROSOFT-CDO-ALLDAYEVENT:FALSE
SUMMARY:Business Communications Office Hours
DESCRIPTION:Sign-up for a free 30 minute one-on-one business communications assessment with chamber member\, Donna Mac at the Tri-Town Chamber Offices in Mansfield.  Donna Mac offers this service once per month to those Chamber members who need to fortify their "live and/or recorded" business communications. \n\n \n\nThe NEW WORLD of Business Communications\, free assessments for your business.\n\n \n\nJust like advertising has changed\, the way we communicate in business has too!  Whether you're in need of delivering professional presentations\, have to speak on camera\, want to influence employees & colleagues or even record your messages\, a few small changes can make a big difference.  Bring your communications questions in and be assessed for free. \n\n \n\nOffered by Donna Mac of DMacVoice & Media\, A Communications Company:  Internally\, Externally & Virtually.\n\nFormer broadcaster Donna Mac has been in the communications industry for nearly 3 decades.  Since 2003\, she's owned DMacVoice & Media\, and is a corporate communications produce & director.   Her business supports professionals and companies through "modern means" of communication\, internally (employee development)\, externally (public speaking) and virtually (video production).
X-ALT-DESC;FMTTYPE=text/html:Sign-up for a free 30 minute one-on-one business communications assessment with chamber member\, Donna Mac at the Tri-Town Chamber Offices in Mansfield.&nbsp\; Donna Mac offers this service once per month to those Chamber members who need to fortify their &quot\;live and/or recorded&quot\; business communications.&nbsp\;<br />\n&nbsp\;<br />\nThe NEW WORLD of Business Communications\, free assessments for your business.<br />\n&nbsp\;<br />\nJust like advertising has changed\, the way we communicate in business has too!&nbsp\; Whether you&#39\;re in need of delivering professional presentations\, have to speak on camera\, want to influence employees &amp\; colleagues or even record your messages\, a few small changes can make a big difference.&nbsp\; Bring your communications questions in and be assessed for free.&nbsp\;<br />\n&nbsp\;<br />\nOffered by<strong> Donna Mac of DMacVoice &amp\; Media</strong>\, A Communications Company:&nbsp\; Internally\, Externally &amp\; Virtually.<br />\n<em>Former broadcaster Donna Mac has been in the communications industry for nearly 3 decades.&nbsp\; Since 2003\, she&rsquo\;s owned DMacVoice &amp\; Media\, and is a corporate communications produce &amp\; director.&nbsp\;&nbsp\; Her business supports professionals and companies through &ldquo\;modern means&rdquo\; of communication\, internally (employee development)\, externally (public speaking) and virtually (video production).</em>
LOCATION:held at the Tri-Town Chamber of Commerce\, in the Barrows Insurance Agency Conference Room at 280 School Street\, Mansfield
UID:e.1730.1046
SEQUENCE:3
DTSTAMP:20260420T164716Z
URL:https://www.tri-townchamber.org/events/details/business-communications-office-hours-08-26-2014-1046
END:VEVENT

END:VCALENDAR
