BEGIN:VCALENDAR
VERSION:2.0
PRODID:-//ChamberMaster//Event Calendar 2.0//EN
METHOD:PUBLISH
X-PUBLISHED-TTL:P3D
REFRESH-INTERVAL:P3D
CALSCALE:GREGORIAN
BEGIN:VEVENT
DTSTART:20130618T203000Z
DTEND:20130619T000000Z
X-MICROSOFT-CDO-ALLDAYEVENT:FALSE
SUMMARY:Business After Hours: Holiday in Mansfield / Foxboro Area
DESCRIPTION:Join Us for a Special Business After Hours ~ Carnival at the Holiday Inn in Mansfield. Where you will Enjoy Food\, Beverages\, Entertainment and Door Prizes!
X-ALT-DESC;FMTTYPE=text/html:<span style="color: rgb(17\, 17\, 17)\; font-family: arial\;">Join Us for a Special Business After Hours ~ Carnival at the Holiday Inn in Mansfield. Where you will Enjoy Food\, Beverages\, Entertainment and Door Prizes!</span>
LOCATION:31 Hampshire Street in Mansfield
UID:e.1730.5
SEQUENCE:3
DTSTAMP:20260421T161506Z
URL:https://www.tri-townchamber.org/events/details/business-after-hours-holiday-in-mansfield-foxboro-area-06-18-2013-5
END:VEVENT

END:VCALENDAR
