BEGIN:VCALENDAR
VERSION:2.0
PRODID:-//ChamberMaster//Event Calendar 2.0//EN
METHOD:PUBLISH
X-PUBLISHED-TTL:P3D
REFRESH-INTERVAL:P3D
CALSCALE:GREGORIAN
BEGIN:VEVENT
DTSTART:20130814T210000Z
DTEND:20130814T230000Z
X-MICROSOFT-CDO-ALLDAYEVENT:FALSE
SUMMARY:Business After Hours: Hilltop Preserve
DESCRIPTION:The Chamber's Business After Hour networking events are a great way to meet fellow Chamber members\, to distribute your business cards and/or brochures\, and to make meaningful connections in a comfortable atmosphere.\n\n\n\n"The Preserve would like to invite you to tour our luxury apartment community .  The 300 unit rental site sits on 22 acres in the quiet country setting of Walpole.  We'll be serving yummy hors d'oeuvres and beer & wine."
X-ALT-DESC;FMTTYPE=text/html:<span style="font-size: 12px\;"><span style="font-family: arial\;">The Chamber&#39\;s Business After Hour networking events are a great way to meet fellow Chamber members\, to distribute your business cards and/or brochures\, and to make meaningful connections in a comfortable atmosphere.</span></span><br />\n<br />\n&quot\;The Preserve would like to invite you to tour our luxury apartment community .&nbsp\; The 300 unit rental site sits on 22 acres in the quiet country setting of Walpole.&nbsp\; We&rsquo\;ll be serving yummy hors d&rsquo\;oeuvres and beer &amp\; wine.&quot\; &nbsp\;<br />\n
LOCATION:The Preserve Apartments is on 100 Hilltop Drive in Walpole ~ the Preserve is just North of Gillette Stadium\, off of Rte 1. About mile from Christina's on the same side. The first entrance is right off route 1 just past Cook's Cylces. Once you pull in\, follow the main road all the way until you see the mailbox kiosk on your left. The office is across from the mailboxes on the right. You'll see the flags and pool fences. Hope to see you there
UID:e.1730.13
SEQUENCE:3
DTSTAMP:20260421T143831Z
URL:https://www.tri-townchamber.org/events/details/business-after-hours-hilltop-preserve-08-14-2013-13
END:VEVENT

END:VCALENDAR
