BEGIN:VCALENDAR
VERSION:2.0
PRODID:-//ChamberMaster//Event Calendar 2.0//EN
METHOD:PUBLISH
X-PUBLISHED-TTL:P3D
REFRESH-INTERVAL:P3D
CALSCALE:GREGORIAN
BEGIN:VEVENT
DTSTART:20150205T220000Z
DTEND:20150206T000000Z
X-MICROSOFT-CDO-ALLDAYEVENT:FALSE
SUMMARY:Business After Hours Event at Hilliards Chocolates
DESCRIPTION:You are invited to attend the February Business After Hours at Hilliards Chocolates at 321 School St.\, B-120\n\n.\n\nThe Chamber's Business After Hour networking events are a great way to meet fellow Chamber members\, to distribute your business cards and/or brochures\, and to make meaningful connections in a comfortable atmosphere. If you have never been to an after hours let us know and we will make sure an Ambassador welcomes you!\n\n\n\nAbout our After Hours Host:\n\nNew Mansfield Store IS NOW OPEN !!\n\nHilliards Chocolates are located in a new building next to Buffalo Wild Wings across from LL Bean. \n\nThey are pleased to announce our new store is now open as of December 4th\, and thank the people from the area who are giving them such an enthusiastic and warm welcome.
X-ALT-DESC;FMTTYPE=text/html:<span style="font-size:16px\;"><span style="font-family:arial\;">You are invited to attend the February Business After Hours at <b>Hilliards Chocolates</b>&nbsp\;at <span style="line-height: 18.2000007629395px\;">321 School St.\, B-120</span><br />\n.<br />\nThe Chamber&#39\;s Business After Hour networking events are a great way to meet fellow Chamber members\, to distribute your business cards and/or brochures\, and to make meaningful connections in a comfortable atmosphere. If you have never been to an after hours let us know and we will make sure an Ambassador welcomes you!<br />\n<br />\n<em><strong>About our After Hours Host:</strong></em></span></span>\n\n<p style="border: 0px\; font-size: 14px\; margin: 0px\; padding: 6px 0px\; color: rgb(136\, 136\, 136)\; font-family: 'Droid Sans'\, Arial\, Helvetica\, sans-serif\; line-height: normal\;"><span style="font-size:16px\;"><span style="font-family:arial\;"><span style="border: 0px\; margin: 0px\; padding: 0px\;">New Mansfield Store IS NOW OPEN&nbsp\;!!</span></span></span></p>\n\n<p style="border: 0px\; font-size: 14px\; margin: 0px\; padding: 6px 0px\; color: rgb(136\, 136\, 136)\; font-family: 'Droid Sans'\, Arial\, Helvetica\, sans-serif\; line-height: normal\;"><span style="font-size:16px\;"><span style="font-family:arial\;"><span style="border: 0px\; margin: 0px\; padding: 0px\;">Hilliards Chocolates are&nbsp\;located in a new building next to Buffalo Wild Wings across from LL Bean.&nbsp\;</span></span></span></p>\n\n<p style="border: 0px\; font-size: 14px\; margin: 0px\; padding: 6px 0px\; color: rgb(136\, 136\, 136)\; font-family: 'Droid Sans'\, Arial\, Helvetica\, sans-serif\; line-height: normal\;"><span style="font-size:16px\;"><span style="font-family:arial\;"><span style="border: 0px\; margin: 0px\; padding: 0px\;">They are pleased to announce our new store is now open as of December 4th\, and thank the people from the area who are giving them such an enthusiastic and warm welcome. </span></span></span></p>\n<br />\n&nbsp\;
LOCATION:321 School Street Mansfield MA 02048
UID:e.1730.1266
SEQUENCE:3
DTSTAMP:20260420T065535Z
URL:https://www.tri-townchamber.org/events/details/business-after-hours-event-at-hilliards-chocolates-02-05-2015-1266
END:VEVENT

END:VCALENDAR
