BEGIN:VCALENDAR
VERSION:2.0
PRODID:-//ChamberMaster//Event Calendar 2.0//EN
METHOD:PUBLISH
X-PUBLISHED-TTL:P3D
REFRESH-INTERVAL:P3D
CALSCALE:GREGORIAN
BEGIN:VEVENT
DTSTART:20131022T210000Z
DTEND:20131022T230000Z
X-MICROSOFT-CDO-ALLDAYEVENT:FALSE
SUMMARY:Business After Hours: EPOCH Senior Living
DESCRIPTION:The Chamber's Business After Hour networking events are a great way to meet fellow Chamber members\, to distribute your business cards and/or brochures\, and to make meaningful connections in a comfortable atmosphere.
X-ALT-DESC;FMTTYPE=text/html:<span style="font-size:12px\;"><span style="color: rgb(0\, 0\, 0)\; font-family: arial\;">The Chamber&#39\;s Business After Hour networking events are a great way to meet fellow Chamber members\, to distribute your business cards and/or brochures\, and to make meaningful connections in a comfortable atmosphere.</span></span>
LOCATION:EPOCH Senior Living Home at 184 Mansfield Ave.\, in Norton A unique combination of people\, lifestyles and services that offers seniors the freedom of choice\, the dignity of respect and the security of care. Comprehensive in scope\, our services meet the dynamic needs of the aging from home care and assisted living to short-term rehabilitation\, skilled nursing and memory care for loved ones with Alzheimer's\, dementia and other forms of memory loss.
UID:e.1730.24
SEQUENCE:3
DTSTAMP:20260421T100535Z
URL:https://www.tri-townchamber.org/events/details/business-after-hours-epoch-senior-living-10-22-2013-24
END:VEVENT

END:VCALENDAR
