BEGIN:VCALENDAR
VERSION:2.0
PRODID:-//ChamberMaster//Event Calendar 2.0//EN
METHOD:PUBLISH
X-PUBLISHED-TTL:P3D
REFRESH-INTERVAL:P3D
CALSCALE:GREGORIAN
BEGIN:VEVENT
DTSTART:20130508T210000Z
DTEND:20130508T230000Z
X-MICROSOFT-CDO-ALLDAYEVENT:FALSE
SUMMARY:Business After Hours: Doolittle Home
DESCRIPTION:The Chamber's Business After Hour networking events is a great way to meet fellow Chamber members\, to distribute your business cards and/or brochures\, and to make meaningful connections in a comfortable atmosphere.
X-ALT-DESC;FMTTYPE=text/html:<span style="font-family: arial\;">The Chamber&#39\;s Business After Hour networking events is a great way to meet fellow Chamber members\, to distribute your business cards and/or brochures\, and to make meaningful connections in a comfortable atmosphere.</span><br />\n
LOCATION:15 Bird Street in Foxboro
UID:e.1730.3
SEQUENCE:3
DTSTAMP:20260421T175650Z
URL:https://www.tri-townchamber.org/events/details/business-after-hours-doolittle-home-05-08-2013-3
END:VEVENT

END:VCALENDAR
