BEGIN:VCALENDAR
VERSION:2.0
PRODID:-//ChamberMaster//Event Calendar 2.0//EN
METHOD:PUBLISH
X-PUBLISHED-TTL:P3D
REFRESH-INTERVAL:P3D
CALSCALE:GREGORIAN
BEGIN:VEVENT
DTSTART:20130917T210000Z
DTEND:20130917T230000Z
X-MICROSOFT-CDO-ALLDAYEVENT:FALSE
SUMMARY:Business After Hours: Dagget-Crandall-Newcomb Home
DESCRIPTION:The Chamber's Business After Hour networking events are a great way to meet fellow Chamber members\, to distribute your business cards and/or brochures\, and to make meaningful connections in a comfortable atmosphere. This Business After Hours will be held under a big tent on the grounds of the Dagget-Crandall-Newcomb Home.\n\n\n\nDagget-Crandall-Newcomb Home\n\nHome is Where the Heart is\n\nIf assisted living is not an option for your loved one and a skilled nursing facility is not needed\, Daggett-Crandall-Newcomb Home offers exceptional medical care with all the comforts of home.\n\n \n\nSample of what they Provide\n\n	\n		Licensed nurses on staff 24/7 to monitor and coordinate resident care needs\n	\n		Medication administration and monitoring by a licensed nurse\n	\n		Diabetes management\; blood glucose checks\, insulin administration by a licensed nurse\n	\n		24 hour emergency response by nursing personnel\n	\n		On site visits with Medical Director along with 24/7 coverage\n	\n		Small resident to staff ratio ensures that your loved one receives the best care possible\n	\n		Cognitive assistance including reminders and redirection\n	\n		Assistance with all activities of daily living including dressing\, bathing and grooming\n	\n		Ability to provide our residents with a therapeutic diet when needed\n	\n		Escorts and assistance with walking to dining and activities\n	\n		Assistance with incontinence
X-ALT-DESC;FMTTYPE=text/html:<span style="font-size:12px\;"><span style="font-family: arial\;">The Chamber&#39\;s Business After Hour networking events are a great way to meet fellow Chamber members\, to distribute your business cards and/or brochures\, and to make meaningful connections in a comfortable atmosphere. This Business After Hours will be held under a big tent on the grounds of the Dagget-Crandall-Newcomb Home.</span><br />\n<br />\n<strong>Dagget-Crandall-Newcomb&nbsp\;Home<br />\nHome is Where the Heart is</strong><br />\nIf assisted living is not an option for your loved one and a skilled nursing facility is not needed\,&nbsp\;Daggett-Crandall-Newcomb&nbsp\;Home offers exceptional medical care with all the comforts of home.<br />\n&nbsp\;<br />\nSample of what they Provide</span>\n<ul>\n	<li>\n		<span style="font-size:12px\;">Licensed nurses on staff 24/7 to monitor and coordinate resident care needs</span></li>\n	<li>\n		<span style="font-size:12px\;">Medication administration and monitoring by a licensed nurse</span></li>\n	<li>\n		<span style="font-size:12px\;">Diabetes management\; blood glucose checks\, insulin administration by a licensed nurse</span></li>\n	<li>\n		<span style="font-size:12px\;">24 hour emergency response by nursing personnel</span></li>\n	<li>\n		<span style="font-size:12px\;">On site visits with Medical Director along with 24/7 coverage</span></li>\n	<li>\n		<span style="font-size:12px\;">Small resident to staff ratio ensures that your loved one receives the best care possible</span></li>\n	<li>\n		<span style="font-size:12px\;">Cognitive assistance including reminders and redirection</span></li>\n	<li>\n		<span style="font-size:12px\;">Assistance with all activities of daily living including dressing\, bathing and grooming</span></li>\n	<li>\n		<span style="font-size:12px\;">Ability to provide our residents with a therapeutic diet when needed</span></li>\n	<li>\n		<span style="font-size:12px\;">Escorts and assistance with walking to dining and activities</span></li>\n	<li>\n		<span style="font-size:12px\;">Assistance with incontinence</span></li>\n</ul>\n
LOCATION:Daggett-Crandall-Newcomb Home Address: 55 Newland Street Norton\, MA 02766 From North or South 495\, take Exit 10(Route 123 Easton-Norton). A t the end of the ramp turn toward Easton. Go approx 1 mile\, Turn left on Newland St. Daggett-Crandall-Newland Home is 1/4 mile on the right.
UID:e.1730.163
SEQUENCE:3
DTSTAMP:20260421T113854Z
URL:https://www.tri-townchamber.org/events/details/business-after-hours-dagget-crandall-newcomb-home-09-17-2013-163
END:VEVENT

END:VCALENDAR
