BEGIN:VCALENDAR
VERSION:2.0
PRODID:-//ChamberMaster//Event Calendar 2.0//EN
METHOD:PUBLISH
X-PUBLISHED-TTL:P3D
REFRESH-INTERVAL:P3D
CALSCALE:GREGORIAN
BEGIN:VEVENT
DTSTART:20130716T210000Z
DTEND:20130716T230000Z
X-MICROSOFT-CDO-ALLDAYEVENT:FALSE
SUMMARY:Business After Hours: Bertucci's Mansfield
DESCRIPTION:The Chamber's Business After Hour networking events are a great way to meet fellow Chamber members\, to distribute your business cards and/or brochures\, and to make meaningful connections in a comfortable atmosphere.
X-ALT-DESC;FMTTYPE=text/html:<span style="font-family: arial\;">The Chamber&#39\;s Business After Hour networking events are a great way to meet fellow Chamber members\, to distribute your business cards and/or brochures\, and to make meaningful connections in a comfortable atmosphere.</span>
LOCATION:Bertucci's is in Mansfield Crossing\, Mansfield
UID:e.1730.8
SEQUENCE:3
DTSTAMP:20260421T161243Z
URL:https://www.tri-townchamber.org/events/details/business-after-hours-bertucci-s-mansfield-07-16-2013-8
END:VEVENT

END:VCALENDAR
