BEGIN:VCALENDAR
VERSION:2.0
PRODID:-//ChamberMaster//Event Calendar 2.0//EN
METHOD:PUBLISH
X-PUBLISHED-TTL:P3D
REFRESH-INTERVAL:P3D
CALSCALE:GREGORIAN
BEGIN:VEVENT
DTSTART:20131106T220000Z
DTEND:20131107T000000Z
X-MICROSOFT-CDO-ALLDAYEVENT:FALSE
SUMMARY:Business After Hours at MGA Links Mamantapett
DESCRIPTION:The Chamber's Business After Hour networking events are a great way to meet fellow Chamber members\, to distribute your business cards and/or brochures\, and to make meaningful connections in a comfortable atmosphere.\n\n\n\nOur November Business After Hours is at MGA Links at Mamantapett  ~ 300 West Main Street\, Norton\, MA 02766\n\n\n\n \n\nAbout MGA Links\n\n \n\nIn April 2003\, the Massachusetts Golf Association purchased MGA Links at Mamantapett in hopes of expanding the game of golf and its inherent values to juniors\, seniors and women across the state.\n\n \n\nThe golf course\, formerly known as New Wading River Country Club\, sits on 29 acres of land and features a 2\,400 yard\, par-3 golf course with a design of holes that holds youthful interest yet also challenges the more skilled golfer. MGA Links is a public golf course\, but various membership categories   junior\, individual\, family   allow for golfers of all ages to call the golf course home.\n\n \n\nEquipped with a fully stocked pro shop carrying equipment and apparel from all major manufacturers\, MGA Links has truly become a golf destination in Southeastern Massachusetts. In the spring of 2010\, MGA Links opened the doors to a new\, spacious clubhouse. Equipped with a pro shop\, office space\, a multi-purpose function room that seats about 85 people and a spacious deck accommodating another 50\, the clubhouse is inviting to both regular customers and outings.\n\n \n\nMGA Links is also the home to The First Tee of Massachusetts and provides learning and instructional opportunities for junior golfers of all ages and abilities throughout the year. On an annual basis\, The First Tee of Massachusetts opens its door to over a dozen youth agencies and schools to come and enjoy a variety of golf programs.\n\n \n\nCome visit MGA Links today!\n\nMGA Links at Mamantapett\n\n300 West Main Street\n\nNorton\, MA 02766\n\nPhone: (508) 222-0555\n\nWebsite: www.mgalinksgolf.com
X-ALT-DESC;FMTTYPE=text/html:<span style="font-size:12px\;"><span style="color: rgb(0\, 0\, 0)\; font-family: arial\;">The Chamber&#39\;s Business After Hour networking events are a great way to meet fellow Chamber members\, to distribute your business cards and/or brochures\, and to make meaningful connections in a comfortable atmosphere.</span></span><br />\n<br />\nOur November Business After Hours is at MGA Links at&nbsp\;Mamantapett&nbsp\; ~&nbsp\;300 West Main Street\,&nbsp\;<span style="font-family: calibri\, sans-serif\;"><span style="font-size: 11pt\;">Norton\, MA 02766</span></span><br />\n<br />\n&nbsp\;<br />\n<em><strong>About MGA Links</strong></em><br />\n&nbsp\;<br />\nIn April 2003\, the Massachusetts Golf Association purchased MGA Links at Mamantapett in hopes of expanding the game of golf and its inherent values to juniors\, seniors and women across the state.<br />\n&nbsp\;<br />\nThe golf course\, formerly known as New Wading River Country Club\, sits on 29 acres of land and features a 2\,400 yard\, par-3 golf course with a design of holes that holds youthful interest yet also challenges the more skilled golfer. MGA Links is a public golf course\, but various membership categories &ndash\; junior\, individual\, family &ndash\; allow for golfers of all ages to call the golf course home.<br />\n&nbsp\;<br />\nEquipped with a fully stocked pro shop carrying equipment and apparel from all major manufacturers\, MGA Links has truly become a golf destination in Southeastern Massachusetts. In the spring of 2010\, MGA Links opened the doors to a new\, spacious clubhouse. Equipped with a pro shop\, office space\, a multi-purpose function room that seats about 85 people and a spacious deck accommodating another 50\, the clubhouse is inviting to both regular customers and outings.<br />\n&nbsp\;<br />\nMGA Links is also the home to The First Tee of Massachusetts and provides learning and instructional opportunities for junior golfers of all ages and abilities throughout the year. On an annual basis\, The First Tee of Massachusetts opens its door to over a dozen youth agencies and schools to come and enjoy a variety of golf programs.<br />\n&nbsp\;<br />\nCome visit MGA Links today!<br />\nMGA Links at Mamantapett<br />\n300 West Main Street<br />\nNorton\, MA 02766<br />\nPhone: (508) 222-0555<br />\nWebsite: <a href="http://www.mgalinksgolf.com">www.mgalinksgolf.com</a><br />\n&nbsp\;
LOCATION:MGA Links at Mamantapett ~ 300 West Main Street\, Norton\, MA 02766
UID:e.1730.25
SEQUENCE:3
DTSTAMP:20260421T083431Z
URL:https://www.tri-townchamber.org/events/details/business-after-hours-at-mga-links-mamantapett-11-06-2013-25
END:VEVENT

END:VCALENDAR
